BEGIN:VCALENDAR
VERSION:2.0
PRODID:-//Get Strong Oregon - ECPv6.15.20//NONSGML v1.0//EN
CALSCALE:GREGORIAN
METHOD:PUBLISH
X-WR-CALNAME:Get Strong Oregon
X-ORIGINAL-URL:https://getstrongoregon.com
X-WR-CALDESC:Events for Get Strong Oregon
REFRESH-INTERVAL;VALUE=DURATION:PT1H
X-Robots-Tag:noindex
X-PUBLISHED-TTL:PT1H
BEGIN:VTIMEZONE
TZID:America/Los_Angeles
BEGIN:DAYLIGHT
TZOFFSETFROM:-0800
TZOFFSETTO:-0700
TZNAME:PDT
DTSTART:20250309T100000
END:DAYLIGHT
BEGIN:STANDARD
TZOFFSETFROM:-0700
TZOFFSETTO:-0800
TZNAME:PST
DTSTART:20251102T090000
END:STANDARD
BEGIN:DAYLIGHT
TZOFFSETFROM:-0800
TZOFFSETTO:-0700
TZNAME:PDT
DTSTART:20260308T100000
END:DAYLIGHT
BEGIN:STANDARD
TZOFFSETFROM:-0700
TZOFFSETTO:-0800
TZNAME:PST
DTSTART:20261101T090000
END:STANDARD
BEGIN:DAYLIGHT
TZOFFSETFROM:-0800
TZOFFSETTO:-0700
TZNAME:PDT
DTSTART:20270314T100000
END:DAYLIGHT
BEGIN:STANDARD
TZOFFSETFROM:-0700
TZOFFSETTO:-0800
TZNAME:PST
DTSTART:20271107T090000
END:STANDARD
END:VTIMEZONE
BEGIN:VEVENT
DTSTART;TZID=America/Los_Angeles:20260421T083000
DTEND;TZID=America/Los_Angeles:20260421T103000
DTSTAMP:20260421T035158
CREATED:20260112T194007Z
LAST-MODIFIED:20260112T202116Z
UID:10002963-1776760200-1776767400@getstrongoregon.com
SUMMARY:Women’s Tuesday Morning Discipleship
DESCRIPTION:8:30am Tuesdays – Women’s Discipleship – Cascade Fitness \n\n\n\nThis women’s discipleship gathering is a space to grow in faith\, build meaningful relationships\, and encourage one another through every season of life. Together\, we engage Scripture\, share honestly\, and support one another in living out our faith day to day. Whether you’re new to discipleship or have walked this road for years\, you’re welcome here.
URL:https://getstrongoregon.com/event/womens-discipleship-3/2026-04-21/
LOCATION:Cascade Fitness\, 625 N Arrowleaf Trail #101\, Sisters\, Oregon\, 97759
CATEGORIES:Discipleship Groups
ATTACH;FMTTYPE=image/jpeg:https://getstrongoregon.com/wp-content/uploads/2026/01/IMG_0521.jpeg
END:VEVENT
BEGIN:VEVENT
DTSTART;TZID=America/Los_Angeles:20260421T180000
DTEND;TZID=America/Los_Angeles:20260421T200000
DTSTAMP:20260421T035158
CREATED:20260112T194146Z
LAST-MODIFIED:20260112T202126Z
UID:10003224-1776794400-1776801600@getstrongoregon.com
SUMMARY:Men’s Tuesday Evening Discipleship
DESCRIPTION:6pm Tuesdays – Men’s Discipleship – Cascade Fitness \n\n\n\nMen’s Discipleship provides a space for men to grow in faith\, accountability\, and brotherhood. Through Scripture\, conversation\, and shared commitment\, we challenge one another to live with integrity and purpose. This is a place to grow stronger spiritually alongside other men.
URL:https://getstrongoregon.com/event/mens-discipleship-2/2026-04-21/
LOCATION:Cascade Fitness\, 625 N Arrowleaf Trail #101\, Sisters\, Oregon\, 97759
CATEGORIES:Discipleship Groups
ATTACH;FMTTYPE=image/jpeg:https://getstrongoregon.com/wp-content/uploads/2026/01/IMG_0519.jpeg
END:VEVENT
END:VCALENDAR