BEGIN:VCALENDAR
VERSION:2.0
PRODID:-//Get Strong Oregon - ECPv6.15.20//NONSGML v1.0//EN
CALSCALE:GREGORIAN
METHOD:PUBLISH
X-WR-CALNAME:Get Strong Oregon
X-ORIGINAL-URL:https://getstrongoregon.com
X-WR-CALDESC:Events for Get Strong Oregon
REFRESH-INTERVAL;VALUE=DURATION:PT1H
X-Robots-Tag:noindex
X-PUBLISHED-TTL:PT1H
BEGIN:VTIMEZONE
TZID:America/Los_Angeles
BEGIN:DAYLIGHT
TZOFFSETFROM:-0800
TZOFFSETTO:-0700
TZNAME:PDT
DTSTART:20240310T100000
END:DAYLIGHT
BEGIN:STANDARD
TZOFFSETFROM:-0700
TZOFFSETTO:-0800
TZNAME:PST
DTSTART:20241103T090000
END:STANDARD
BEGIN:DAYLIGHT
TZOFFSETFROM:-0800
TZOFFSETTO:-0700
TZNAME:PDT
DTSTART:20250309T100000
END:DAYLIGHT
BEGIN:STANDARD
TZOFFSETFROM:-0700
TZOFFSETTO:-0800
TZNAME:PST
DTSTART:20251102T090000
END:STANDARD
BEGIN:DAYLIGHT
TZOFFSETFROM:-0800
TZOFFSETTO:-0700
TZNAME:PDT
DTSTART:20260308T100000
END:DAYLIGHT
BEGIN:STANDARD
TZOFFSETFROM:-0700
TZOFFSETTO:-0800
TZNAME:PST
DTSTART:20261101T090000
END:STANDARD
END:VTIMEZONE
BEGIN:VEVENT
DTSTART;TZID=America/Los_Angeles:20251220T064500
DTEND;TZID=America/Los_Angeles:20251220T074500
DTSTAMP:20260421T050651
CREATED:20250107T224938Z
LAST-MODIFIED:20260117T065318Z
UID:10000176-1766213100-1766216700@getstrongoregon.com
SUMMARY:Strong Saturday Women's Workout
DESCRIPTION:Come for the workout and stay for the fellowship!Pray with the women of Get Strong and then let us partner you up for a great workout while we blast worship music and get after it together for some good old-fashioned gym church! \n\n\n\nOnly cost: blood\, sweat and tears!
URL:https://getstrongoregon.com/event/get-strong-womens-partner-workout/2025-12-20/
LOCATION:Level 5 CrossFit Sisters\, 625 N Arrowleaf Trail\, Sisters\, OR\, 97759
CATEGORIES:Strong Saturday,Women
ATTACH;FMTTYPE=image/jpeg:https://getstrongoregon.com/wp-content/uploads/2025/01/unnamed-6-scaled.jpg
END:VEVENT
BEGIN:VEVENT
DTSTART;TZID=America/Los_Angeles:20251220T060000
DTEND;TZID=America/Los_Angeles:20251220T070000
DTSTAMP:20260421T050651
CREATED:20241229T220726Z
LAST-MODIFIED:20260117T065424Z
UID:10000437-1766210400-1766214000@getstrongoregon.com
SUMMARY:Strong Saturday Men's Workout
DESCRIPTION:Come for the workout and stay for the fellowship!Pray with the men of Get Strong and then let us partner you up for a great workout while we blast worship music and get after it together for some good old fashioned gym church!Fellowship at Sisters Coffee to follow!Only cost: blood\, sweat and tears!
URL:https://getstrongoregon.com/event/get-strong-partner-workout-2/2025-12-20/
LOCATION:Level 5 CrossFit Sisters\, 625 N Arrowleaf Trail\, Sisters\, OR\, 97759
CATEGORIES:Men,Strong Saturday
ATTACH;FMTTYPE=image/jpeg:https://getstrongoregon.com/wp-content/uploads/2024/12/unnamed-7-scaled.jpg
END:VEVENT
BEGIN:VEVENT
DTSTART;TZID=America/Los_Angeles:20251213T064500
DTEND;TZID=America/Los_Angeles:20251213T074500
DTSTAMP:20260421T050651
CREATED:20250107T224938Z
LAST-MODIFIED:20260117T065318Z
UID:10000175-1765608300-1765611900@getstrongoregon.com
SUMMARY:Strong Saturday Women's Workout
DESCRIPTION:Come for the workout and stay for the fellowship!Pray with the women of Get Strong and then let us partner you up for a great workout while we blast worship music and get after it together for some good old-fashioned gym church! \n\n\n\nOnly cost: blood\, sweat and tears!
URL:https://getstrongoregon.com/event/get-strong-womens-partner-workout/2025-12-13/
LOCATION:Level 5 CrossFit Sisters\, 625 N Arrowleaf Trail\, Sisters\, OR\, 97759
CATEGORIES:Strong Saturday,Women
ATTACH;FMTTYPE=image/jpeg:https://getstrongoregon.com/wp-content/uploads/2025/01/unnamed-6-scaled.jpg
END:VEVENT
BEGIN:VEVENT
DTSTART;TZID=America/Los_Angeles:20251213T060000
DTEND;TZID=America/Los_Angeles:20251213T070000
DTSTAMP:20260421T050651
CREATED:20241229T220726Z
LAST-MODIFIED:20260117T065424Z
UID:10000436-1765605600-1765609200@getstrongoregon.com
SUMMARY:Strong Saturday Men's Workout
DESCRIPTION:Come for the workout and stay for the fellowship!Pray with the men of Get Strong and then let us partner you up for a great workout while we blast worship music and get after it together for some good old fashioned gym church!Fellowship at Sisters Coffee to follow!Only cost: blood\, sweat and tears!
URL:https://getstrongoregon.com/event/get-strong-partner-workout-2/2025-12-13/
LOCATION:Level 5 CrossFit Sisters\, 625 N Arrowleaf Trail\, Sisters\, OR\, 97759
CATEGORIES:Men,Strong Saturday
ATTACH;FMTTYPE=image/jpeg:https://getstrongoregon.com/wp-content/uploads/2024/12/unnamed-7-scaled.jpg
END:VEVENT
BEGIN:VEVENT
DTSTART;TZID=America/Los_Angeles:20251206T064500
DTEND;TZID=America/Los_Angeles:20251206T074500
DTSTAMP:20260421T050651
CREATED:20250107T224938Z
LAST-MODIFIED:20260117T065318Z
UID:10000174-1765003500-1765007100@getstrongoregon.com
SUMMARY:Strong Saturday Women's Workout
DESCRIPTION:Come for the workout and stay for the fellowship!Pray with the women of Get Strong and then let us partner you up for a great workout while we blast worship music and get after it together for some good old-fashioned gym church! \n\n\n\nOnly cost: blood\, sweat and tears!
URL:https://getstrongoregon.com/event/get-strong-womens-partner-workout/2025-12-06/
LOCATION:Level 5 CrossFit Sisters\, 625 N Arrowleaf Trail\, Sisters\, OR\, 97759
CATEGORIES:Strong Saturday,Women
ATTACH;FMTTYPE=image/jpeg:https://getstrongoregon.com/wp-content/uploads/2025/01/unnamed-6-scaled.jpg
END:VEVENT
BEGIN:VEVENT
DTSTART;TZID=America/Los_Angeles:20251206T060000
DTEND;TZID=America/Los_Angeles:20251206T070000
DTSTAMP:20260421T050651
CREATED:20241229T220726Z
LAST-MODIFIED:20260117T065424Z
UID:10000435-1765000800-1765004400@getstrongoregon.com
SUMMARY:Strong Saturday Men's Workout
DESCRIPTION:Come for the workout and stay for the fellowship!Pray with the men of Get Strong and then let us partner you up for a great workout while we blast worship music and get after it together for some good old fashioned gym church!Fellowship at Sisters Coffee to follow!Only cost: blood\, sweat and tears!
URL:https://getstrongoregon.com/event/get-strong-partner-workout-2/2025-12-06/
LOCATION:Level 5 CrossFit Sisters\, 625 N Arrowleaf Trail\, Sisters\, OR\, 97759
CATEGORIES:Men,Strong Saturday
ATTACH;FMTTYPE=image/jpeg:https://getstrongoregon.com/wp-content/uploads/2024/12/unnamed-7-scaled.jpg
END:VEVENT
BEGIN:VEVENT
DTSTART;TZID=America/Los_Angeles:20251129T064500
DTEND;TZID=America/Los_Angeles:20251129T074500
DTSTAMP:20260421T050651
CREATED:20250107T224938Z
LAST-MODIFIED:20260117T065318Z
UID:10000173-1764398700-1764402300@getstrongoregon.com
SUMMARY:Strong Saturday Women's Workout
DESCRIPTION:Come for the workout and stay for the fellowship!Pray with the women of Get Strong and then let us partner you up for a great workout while we blast worship music and get after it together for some good old-fashioned gym church! \n\n\n\nOnly cost: blood\, sweat and tears!
URL:https://getstrongoregon.com/event/get-strong-womens-partner-workout/2025-11-29/
LOCATION:Level 5 CrossFit Sisters\, 625 N Arrowleaf Trail\, Sisters\, OR\, 97759
CATEGORIES:Strong Saturday,Women
ATTACH;FMTTYPE=image/jpeg:https://getstrongoregon.com/wp-content/uploads/2025/01/unnamed-6-scaled.jpg
END:VEVENT
BEGIN:VEVENT
DTSTART;TZID=America/Los_Angeles:20251129T060000
DTEND;TZID=America/Los_Angeles:20251129T070000
DTSTAMP:20260421T050651
CREATED:20241229T220726Z
LAST-MODIFIED:20260117T065424Z
UID:10000434-1764396000-1764399600@getstrongoregon.com
SUMMARY:Strong Saturday Men's Workout
DESCRIPTION:Come for the workout and stay for the fellowship!Pray with the men of Get Strong and then let us partner you up for a great workout while we blast worship music and get after it together for some good old fashioned gym church!Fellowship at Sisters Coffee to follow!Only cost: blood\, sweat and tears!
URL:https://getstrongoregon.com/event/get-strong-partner-workout-2/2025-11-29/
LOCATION:Level 5 CrossFit Sisters\, 625 N Arrowleaf Trail\, Sisters\, OR\, 97759
CATEGORIES:Men,Strong Saturday
ATTACH;FMTTYPE=image/jpeg:https://getstrongoregon.com/wp-content/uploads/2024/12/unnamed-7-scaled.jpg
END:VEVENT
BEGIN:VEVENT
DTSTART;TZID=America/Los_Angeles:20251122T064500
DTEND;TZID=America/Los_Angeles:20251122T074500
DTSTAMP:20260421T050651
CREATED:20250107T224938Z
LAST-MODIFIED:20260117T065318Z
UID:10000172-1763793900-1763797500@getstrongoregon.com
SUMMARY:Strong Saturday Women's Workout
DESCRIPTION:Come for the workout and stay for the fellowship!Pray with the women of Get Strong and then let us partner you up for a great workout while we blast worship music and get after it together for some good old-fashioned gym church! \n\n\n\nOnly cost: blood\, sweat and tears!
URL:https://getstrongoregon.com/event/get-strong-womens-partner-workout/2025-11-22/
LOCATION:Level 5 CrossFit Sisters\, 625 N Arrowleaf Trail\, Sisters\, OR\, 97759
CATEGORIES:Strong Saturday,Women
ATTACH;FMTTYPE=image/jpeg:https://getstrongoregon.com/wp-content/uploads/2025/01/unnamed-6-scaled.jpg
END:VEVENT
BEGIN:VEVENT
DTSTART;TZID=America/Los_Angeles:20251122T060000
DTEND;TZID=America/Los_Angeles:20251122T070000
DTSTAMP:20260421T050651
CREATED:20241229T220726Z
LAST-MODIFIED:20260117T065424Z
UID:10000433-1763791200-1763794800@getstrongoregon.com
SUMMARY:Strong Saturday Men's Workout
DESCRIPTION:Come for the workout and stay for the fellowship!Pray with the men of Get Strong and then let us partner you up for a great workout while we blast worship music and get after it together for some good old fashioned gym church!Fellowship at Sisters Coffee to follow!Only cost: blood\, sweat and tears!
URL:https://getstrongoregon.com/event/get-strong-partner-workout-2/2025-11-22/
LOCATION:Level 5 CrossFit Sisters\, 625 N Arrowleaf Trail\, Sisters\, OR\, 97759
CATEGORIES:Men,Strong Saturday
ATTACH;FMTTYPE=image/jpeg:https://getstrongoregon.com/wp-content/uploads/2024/12/unnamed-7-scaled.jpg
END:VEVENT
BEGIN:VEVENT
DTSTART;TZID=America/Los_Angeles:20251115T064500
DTEND;TZID=America/Los_Angeles:20251115T074500
DTSTAMP:20260421T050651
CREATED:20250107T224938Z
LAST-MODIFIED:20260117T065318Z
UID:10000171-1763189100-1763192700@getstrongoregon.com
SUMMARY:Strong Saturday Women's Workout
DESCRIPTION:Come for the workout and stay for the fellowship!Pray with the women of Get Strong and then let us partner you up for a great workout while we blast worship music and get after it together for some good old-fashioned gym church! \n\n\n\nOnly cost: blood\, sweat and tears!
URL:https://getstrongoregon.com/event/get-strong-womens-partner-workout/2025-11-15/
LOCATION:Level 5 CrossFit Sisters\, 625 N Arrowleaf Trail\, Sisters\, OR\, 97759
CATEGORIES:Strong Saturday,Women
ATTACH;FMTTYPE=image/jpeg:https://getstrongoregon.com/wp-content/uploads/2025/01/unnamed-6-scaled.jpg
END:VEVENT
BEGIN:VEVENT
DTSTART;TZID=America/Los_Angeles:20251115T060000
DTEND;TZID=America/Los_Angeles:20251115T070000
DTSTAMP:20260421T050651
CREATED:20241229T220726Z
LAST-MODIFIED:20260117T065424Z
UID:10000432-1763186400-1763190000@getstrongoregon.com
SUMMARY:Strong Saturday Men's Workout
DESCRIPTION:Come for the workout and stay for the fellowship!Pray with the men of Get Strong and then let us partner you up for a great workout while we blast worship music and get after it together for some good old fashioned gym church!Fellowship at Sisters Coffee to follow!Only cost: blood\, sweat and tears!
URL:https://getstrongoregon.com/event/get-strong-partner-workout-2/2025-11-15/
LOCATION:Level 5 CrossFit Sisters\, 625 N Arrowleaf Trail\, Sisters\, OR\, 97759
CATEGORIES:Men,Strong Saturday
ATTACH;FMTTYPE=image/jpeg:https://getstrongoregon.com/wp-content/uploads/2024/12/unnamed-7-scaled.jpg
END:VEVENT
BEGIN:VEVENT
DTSTART;TZID=America/Los_Angeles:20251108T064500
DTEND;TZID=America/Los_Angeles:20251108T074500
DTSTAMP:20260421T050651
CREATED:20250107T224938Z
LAST-MODIFIED:20260117T065318Z
UID:10000170-1762584300-1762587900@getstrongoregon.com
SUMMARY:Strong Saturday Women's Workout
DESCRIPTION:Come for the workout and stay for the fellowship!Pray with the women of Get Strong and then let us partner you up for a great workout while we blast worship music and get after it together for some good old-fashioned gym church! \n\n\n\nOnly cost: blood\, sweat and tears!
URL:https://getstrongoregon.com/event/get-strong-womens-partner-workout/2025-11-08/
LOCATION:Level 5 CrossFit Sisters\, 625 N Arrowleaf Trail\, Sisters\, OR\, 97759
CATEGORIES:Strong Saturday,Women
ATTACH;FMTTYPE=image/jpeg:https://getstrongoregon.com/wp-content/uploads/2025/01/unnamed-6-scaled.jpg
END:VEVENT
BEGIN:VEVENT
DTSTART;TZID=America/Los_Angeles:20251108T060000
DTEND;TZID=America/Los_Angeles:20251108T070000
DTSTAMP:20260421T050651
CREATED:20241229T220726Z
LAST-MODIFIED:20260117T065424Z
UID:10000431-1762581600-1762585200@getstrongoregon.com
SUMMARY:Strong Saturday Men's Workout
DESCRIPTION:Come for the workout and stay for the fellowship!Pray with the men of Get Strong and then let us partner you up for a great workout while we blast worship music and get after it together for some good old fashioned gym church!Fellowship at Sisters Coffee to follow!Only cost: blood\, sweat and tears!
URL:https://getstrongoregon.com/event/get-strong-partner-workout-2/2025-11-08/
LOCATION:Level 5 CrossFit Sisters\, 625 N Arrowleaf Trail\, Sisters\, OR\, 97759
CATEGORIES:Men,Strong Saturday
ATTACH;FMTTYPE=image/jpeg:https://getstrongoregon.com/wp-content/uploads/2024/12/unnamed-7-scaled.jpg
END:VEVENT
BEGIN:VEVENT
DTSTART;TZID=America/Los_Angeles:20251101T064500
DTEND;TZID=America/Los_Angeles:20251101T074500
DTSTAMP:20260421T050651
CREATED:20250107T224938Z
LAST-MODIFIED:20260117T065318Z
UID:10000169-1761979500-1761983100@getstrongoregon.com
SUMMARY:Strong Saturday Women's Workout
DESCRIPTION:Come for the workout and stay for the fellowship!Pray with the women of Get Strong and then let us partner you up for a great workout while we blast worship music and get after it together for some good old-fashioned gym church! \n\n\n\nOnly cost: blood\, sweat and tears!
URL:https://getstrongoregon.com/event/get-strong-womens-partner-workout/2025-11-01/
LOCATION:Level 5 CrossFit Sisters\, 625 N Arrowleaf Trail\, Sisters\, OR\, 97759
CATEGORIES:Strong Saturday,Women
ATTACH;FMTTYPE=image/jpeg:https://getstrongoregon.com/wp-content/uploads/2025/01/unnamed-6-scaled.jpg
END:VEVENT
BEGIN:VEVENT
DTSTART;TZID=America/Los_Angeles:20251101T060000
DTEND;TZID=America/Los_Angeles:20251101T070000
DTSTAMP:20260421T050651
CREATED:20241229T220726Z
LAST-MODIFIED:20260117T065424Z
UID:10000430-1761976800-1761980400@getstrongoregon.com
SUMMARY:Strong Saturday Men's Workout
DESCRIPTION:Come for the workout and stay for the fellowship!Pray with the men of Get Strong and then let us partner you up for a great workout while we blast worship music and get after it together for some good old fashioned gym church!Fellowship at Sisters Coffee to follow!Only cost: blood\, sweat and tears!
URL:https://getstrongoregon.com/event/get-strong-partner-workout-2/2025-11-01/
LOCATION:Level 5 CrossFit Sisters\, 625 N Arrowleaf Trail\, Sisters\, OR\, 97759
CATEGORIES:Men,Strong Saturday
ATTACH;FMTTYPE=image/jpeg:https://getstrongoregon.com/wp-content/uploads/2024/12/unnamed-7-scaled.jpg
END:VEVENT
BEGIN:VEVENT
DTSTART;TZID=America/Los_Angeles:20251025T064500
DTEND;TZID=America/Los_Angeles:20251025T074500
DTSTAMP:20260421T050651
CREATED:20250107T224938Z
LAST-MODIFIED:20260117T065318Z
UID:10000168-1761374700-1761378300@getstrongoregon.com
SUMMARY:Strong Saturday Women's Workout
DESCRIPTION:Come for the workout and stay for the fellowship!Pray with the women of Get Strong and then let us partner you up for a great workout while we blast worship music and get after it together for some good old-fashioned gym church! \n\n\n\nOnly cost: blood\, sweat and tears!
URL:https://getstrongoregon.com/event/get-strong-womens-partner-workout/2025-10-25/
LOCATION:Level 5 CrossFit Sisters\, 625 N Arrowleaf Trail\, Sisters\, OR\, 97759
CATEGORIES:Strong Saturday,Women
ATTACH;FMTTYPE=image/jpeg:https://getstrongoregon.com/wp-content/uploads/2025/01/unnamed-6-scaled.jpg
END:VEVENT
BEGIN:VEVENT
DTSTART;TZID=America/Los_Angeles:20251025T060000
DTEND;TZID=America/Los_Angeles:20251025T070000
DTSTAMP:20260421T050651
CREATED:20241229T220726Z
LAST-MODIFIED:20260117T065424Z
UID:10000429-1761372000-1761375600@getstrongoregon.com
SUMMARY:Strong Saturday Men's Workout
DESCRIPTION:Come for the workout and stay for the fellowship!Pray with the men of Get Strong and then let us partner you up for a great workout while we blast worship music and get after it together for some good old fashioned gym church!Fellowship at Sisters Coffee to follow!Only cost: blood\, sweat and tears!
URL:https://getstrongoregon.com/event/get-strong-partner-workout-2/2025-10-25/
LOCATION:Level 5 CrossFit Sisters\, 625 N Arrowleaf Trail\, Sisters\, OR\, 97759
CATEGORIES:Men,Strong Saturday
ATTACH;FMTTYPE=image/jpeg:https://getstrongoregon.com/wp-content/uploads/2024/12/unnamed-7-scaled.jpg
END:VEVENT
BEGIN:VEVENT
DTSTART;TZID=America/Los_Angeles:20251018T064500
DTEND;TZID=America/Los_Angeles:20251018T074500
DTSTAMP:20260421T050651
CREATED:20250107T224938Z
LAST-MODIFIED:20260117T065318Z
UID:10000167-1760769900-1760773500@getstrongoregon.com
SUMMARY:Strong Saturday Women's Workout
DESCRIPTION:Come for the workout and stay for the fellowship!Pray with the women of Get Strong and then let us partner you up for a great workout while we blast worship music and get after it together for some good old-fashioned gym church! \n\n\n\nOnly cost: blood\, sweat and tears!
URL:https://getstrongoregon.com/event/get-strong-womens-partner-workout/2025-10-18/
LOCATION:Level 5 CrossFit Sisters\, 625 N Arrowleaf Trail\, Sisters\, OR\, 97759
CATEGORIES:Strong Saturday,Women
ATTACH;FMTTYPE=image/jpeg:https://getstrongoregon.com/wp-content/uploads/2025/01/unnamed-6-scaled.jpg
END:VEVENT
BEGIN:VEVENT
DTSTART;TZID=America/Los_Angeles:20251018T060000
DTEND;TZID=America/Los_Angeles:20251018T070000
DTSTAMP:20260421T050651
CREATED:20241229T220726Z
LAST-MODIFIED:20260117T065424Z
UID:10000428-1760767200-1760770800@getstrongoregon.com
SUMMARY:Strong Saturday Men's Workout
DESCRIPTION:Come for the workout and stay for the fellowship!Pray with the men of Get Strong and then let us partner you up for a great workout while we blast worship music and get after it together for some good old fashioned gym church!Fellowship at Sisters Coffee to follow!Only cost: blood\, sweat and tears!
URL:https://getstrongoregon.com/event/get-strong-partner-workout-2/2025-10-18/
LOCATION:Level 5 CrossFit Sisters\, 625 N Arrowleaf Trail\, Sisters\, OR\, 97759
CATEGORIES:Men,Strong Saturday
ATTACH;FMTTYPE=image/jpeg:https://getstrongoregon.com/wp-content/uploads/2024/12/unnamed-7-scaled.jpg
END:VEVENT
BEGIN:VEVENT
DTSTART;TZID=America/Los_Angeles:20251011T064500
DTEND;TZID=America/Los_Angeles:20251011T074500
DTSTAMP:20260421T050651
CREATED:20250107T224938Z
LAST-MODIFIED:20260117T065318Z
UID:10000166-1760165100-1760168700@getstrongoregon.com
SUMMARY:Strong Saturday Women's Workout
DESCRIPTION:Come for the workout and stay for the fellowship!Pray with the women of Get Strong and then let us partner you up for a great workout while we blast worship music and get after it together for some good old-fashioned gym church! \n\n\n\nOnly cost: blood\, sweat and tears!
URL:https://getstrongoregon.com/event/get-strong-womens-partner-workout/2025-10-11/
LOCATION:Level 5 CrossFit Sisters\, 625 N Arrowleaf Trail\, Sisters\, OR\, 97759
CATEGORIES:Strong Saturday,Women
ATTACH;FMTTYPE=image/jpeg:https://getstrongoregon.com/wp-content/uploads/2025/01/unnamed-6-scaled.jpg
END:VEVENT
BEGIN:VEVENT
DTSTART;TZID=America/Los_Angeles:20251011T060000
DTEND;TZID=America/Los_Angeles:20251011T070000
DTSTAMP:20260421T050651
CREATED:20241229T220726Z
LAST-MODIFIED:20260117T065424Z
UID:10000427-1760162400-1760166000@getstrongoregon.com
SUMMARY:Strong Saturday Men's Workout
DESCRIPTION:Come for the workout and stay for the fellowship!Pray with the men of Get Strong and then let us partner you up for a great workout while we blast worship music and get after it together for some good old fashioned gym church!Fellowship at Sisters Coffee to follow!Only cost: blood\, sweat and tears!
URL:https://getstrongoregon.com/event/get-strong-partner-workout-2/2025-10-11/
LOCATION:Level 5 CrossFit Sisters\, 625 N Arrowleaf Trail\, Sisters\, OR\, 97759
CATEGORIES:Men,Strong Saturday
ATTACH;FMTTYPE=image/jpeg:https://getstrongoregon.com/wp-content/uploads/2024/12/unnamed-7-scaled.jpg
END:VEVENT
BEGIN:VEVENT
DTSTART;TZID=America/Los_Angeles:20251004T064500
DTEND;TZID=America/Los_Angeles:20251004T074500
DTSTAMP:20260421T050651
CREATED:20250107T224938Z
LAST-MODIFIED:20260117T065318Z
UID:10000165-1759560300-1759563900@getstrongoregon.com
SUMMARY:Strong Saturday Women's Workout
DESCRIPTION:Come for the workout and stay for the fellowship!Pray with the women of Get Strong and then let us partner you up for a great workout while we blast worship music and get after it together for some good old-fashioned gym church! \n\n\n\nOnly cost: blood\, sweat and tears!
URL:https://getstrongoregon.com/event/get-strong-womens-partner-workout/2025-10-04/
LOCATION:Level 5 CrossFit Sisters\, 625 N Arrowleaf Trail\, Sisters\, OR\, 97759
CATEGORIES:Strong Saturday,Women
ATTACH;FMTTYPE=image/jpeg:https://getstrongoregon.com/wp-content/uploads/2025/01/unnamed-6-scaled.jpg
END:VEVENT
BEGIN:VEVENT
DTSTART;TZID=America/Los_Angeles:20251004T060000
DTEND;TZID=America/Los_Angeles:20251004T070000
DTSTAMP:20260421T050651
CREATED:20241229T220726Z
LAST-MODIFIED:20260117T065424Z
UID:10000426-1759557600-1759561200@getstrongoregon.com
SUMMARY:Strong Saturday Men's Workout
DESCRIPTION:Come for the workout and stay for the fellowship!Pray with the men of Get Strong and then let us partner you up for a great workout while we blast worship music and get after it together for some good old fashioned gym church!Fellowship at Sisters Coffee to follow!Only cost: blood\, sweat and tears!
URL:https://getstrongoregon.com/event/get-strong-partner-workout-2/2025-10-04/
LOCATION:Level 5 CrossFit Sisters\, 625 N Arrowleaf Trail\, Sisters\, OR\, 97759
CATEGORIES:Men,Strong Saturday
ATTACH;FMTTYPE=image/jpeg:https://getstrongoregon.com/wp-content/uploads/2024/12/unnamed-7-scaled.jpg
END:VEVENT
BEGIN:VEVENT
DTSTART;TZID=America/Los_Angeles:20250927T064500
DTEND;TZID=America/Los_Angeles:20250927T074500
DTSTAMP:20260421T050651
CREATED:20250107T224938Z
LAST-MODIFIED:20260117T065318Z
UID:10000164-1758955500-1758959100@getstrongoregon.com
SUMMARY:Strong Saturday Women's Workout
DESCRIPTION:Come for the workout and stay for the fellowship!Pray with the women of Get Strong and then let us partner you up for a great workout while we blast worship music and get after it together for some good old-fashioned gym church! \n\n\n\nOnly cost: blood\, sweat and tears!
URL:https://getstrongoregon.com/event/get-strong-womens-partner-workout/2025-09-27/
LOCATION:Level 5 CrossFit Sisters\, 625 N Arrowleaf Trail\, Sisters\, OR\, 97759
CATEGORIES:Strong Saturday,Women
ATTACH;FMTTYPE=image/jpeg:https://getstrongoregon.com/wp-content/uploads/2025/01/unnamed-6-scaled.jpg
END:VEVENT
BEGIN:VEVENT
DTSTART;TZID=America/Los_Angeles:20250927T060000
DTEND;TZID=America/Los_Angeles:20250927T070000
DTSTAMP:20260421T050651
CREATED:20241229T220726Z
LAST-MODIFIED:20260117T065424Z
UID:10000425-1758952800-1758956400@getstrongoregon.com
SUMMARY:Strong Saturday Men's Workout
DESCRIPTION:Come for the workout and stay for the fellowship!Pray with the men of Get Strong and then let us partner you up for a great workout while we blast worship music and get after it together for some good old fashioned gym church!Fellowship at Sisters Coffee to follow!Only cost: blood\, sweat and tears!
URL:https://getstrongoregon.com/event/get-strong-partner-workout-2/2025-09-27/
LOCATION:Level 5 CrossFit Sisters\, 625 N Arrowleaf Trail\, Sisters\, OR\, 97759
CATEGORIES:Men,Strong Saturday
ATTACH;FMTTYPE=image/jpeg:https://getstrongoregon.com/wp-content/uploads/2024/12/unnamed-7-scaled.jpg
END:VEVENT
BEGIN:VEVENT
DTSTART;TZID=America/Los_Angeles:20250920T064500
DTEND;TZID=America/Los_Angeles:20250920T074500
DTSTAMP:20260421T050651
CREATED:20250107T224938Z
LAST-MODIFIED:20260117T065318Z
UID:10000163-1758350700-1758354300@getstrongoregon.com
SUMMARY:Strong Saturday Women's Workout
DESCRIPTION:Come for the workout and stay for the fellowship!Pray with the women of Get Strong and then let us partner you up for a great workout while we blast worship music and get after it together for some good old-fashioned gym church! \n\n\n\nOnly cost: blood\, sweat and tears!
URL:https://getstrongoregon.com/event/get-strong-womens-partner-workout/2025-09-20/
LOCATION:Level 5 CrossFit Sisters\, 625 N Arrowleaf Trail\, Sisters\, OR\, 97759
CATEGORIES:Strong Saturday,Women
ATTACH;FMTTYPE=image/jpeg:https://getstrongoregon.com/wp-content/uploads/2025/01/unnamed-6-scaled.jpg
END:VEVENT
BEGIN:VEVENT
DTSTART;TZID=America/Los_Angeles:20250920T060000
DTEND;TZID=America/Los_Angeles:20250920T070000
DTSTAMP:20260421T050651
CREATED:20241229T220726Z
LAST-MODIFIED:20260117T065424Z
UID:10000424-1758348000-1758351600@getstrongoregon.com
SUMMARY:Strong Saturday Men's Workout
DESCRIPTION:Come for the workout and stay for the fellowship!Pray with the men of Get Strong and then let us partner you up for a great workout while we blast worship music and get after it together for some good old fashioned gym church!Fellowship at Sisters Coffee to follow!Only cost: blood\, sweat and tears!
URL:https://getstrongoregon.com/event/get-strong-partner-workout-2/2025-09-20/
LOCATION:Level 5 CrossFit Sisters\, 625 N Arrowleaf Trail\, Sisters\, OR\, 97759
CATEGORIES:Men,Strong Saturday
ATTACH;FMTTYPE=image/jpeg:https://getstrongoregon.com/wp-content/uploads/2024/12/unnamed-7-scaled.jpg
END:VEVENT
BEGIN:VEVENT
DTSTART;TZID=America/Los_Angeles:20250913T064500
DTEND;TZID=America/Los_Angeles:20250913T074500
DTSTAMP:20260421T050651
CREATED:20250107T224938Z
LAST-MODIFIED:20260117T065318Z
UID:10000162-1757745900-1757749500@getstrongoregon.com
SUMMARY:Strong Saturday Women's Workout
DESCRIPTION:Come for the workout and stay for the fellowship!Pray with the women of Get Strong and then let us partner you up for a great workout while we blast worship music and get after it together for some good old-fashioned gym church! \n\n\n\nOnly cost: blood\, sweat and tears!
URL:https://getstrongoregon.com/event/get-strong-womens-partner-workout/2025-09-13/
LOCATION:Level 5 CrossFit Sisters\, 625 N Arrowleaf Trail\, Sisters\, OR\, 97759
CATEGORIES:Strong Saturday,Women
ATTACH;FMTTYPE=image/jpeg:https://getstrongoregon.com/wp-content/uploads/2025/01/unnamed-6-scaled.jpg
END:VEVENT
BEGIN:VEVENT
DTSTART;TZID=America/Los_Angeles:20250913T060000
DTEND;TZID=America/Los_Angeles:20250913T070000
DTSTAMP:20260421T050651
CREATED:20241229T220726Z
LAST-MODIFIED:20260117T065424Z
UID:10000423-1757743200-1757746800@getstrongoregon.com
SUMMARY:Strong Saturday Men's Workout
DESCRIPTION:Come for the workout and stay for the fellowship!Pray with the men of Get Strong and then let us partner you up for a great workout while we blast worship music and get after it together for some good old fashioned gym church!Fellowship at Sisters Coffee to follow!Only cost: blood\, sweat and tears!
URL:https://getstrongoregon.com/event/get-strong-partner-workout-2/2025-09-13/
LOCATION:Level 5 CrossFit Sisters\, 625 N Arrowleaf Trail\, Sisters\, OR\, 97759
CATEGORIES:Men,Strong Saturday
ATTACH;FMTTYPE=image/jpeg:https://getstrongoregon.com/wp-content/uploads/2024/12/unnamed-7-scaled.jpg
END:VEVENT
END:VCALENDAR