BEGIN:VCALENDAR
VERSION:2.0
PRODID:-//Get Strong Oregon - ECPv6.15.20//NONSGML v1.0//EN
CALSCALE:GREGORIAN
METHOD:PUBLISH
X-ORIGINAL-URL:https://getstrongoregon.com
X-WR-CALDESC:Events for Get Strong Oregon
REFRESH-INTERVAL;VALUE=DURATION:PT1H
X-Robots-Tag:noindex
X-PUBLISHED-TTL:PT1H
BEGIN:VTIMEZONE
TZID:America/Los_Angeles
BEGIN:DAYLIGHT
TZOFFSETFROM:-0800
TZOFFSETTO:-0700
TZNAME:PDT
DTSTART:20250309T100000
END:DAYLIGHT
BEGIN:STANDARD
TZOFFSETFROM:-0700
TZOFFSETTO:-0800
TZNAME:PST
DTSTART:20251102T090000
END:STANDARD
BEGIN:DAYLIGHT
TZOFFSETFROM:-0800
TZOFFSETTO:-0700
TZNAME:PDT
DTSTART:20260308T100000
END:DAYLIGHT
BEGIN:STANDARD
TZOFFSETFROM:-0700
TZOFFSETTO:-0800
TZNAME:PST
DTSTART:20261101T090000
END:STANDARD
BEGIN:DAYLIGHT
TZOFFSETFROM:-0800
TZOFFSETTO:-0700
TZNAME:PDT
DTSTART:20270314T100000
END:DAYLIGHT
BEGIN:STANDARD
TZOFFSETFROM:-0700
TZOFFSETTO:-0800
TZNAME:PST
DTSTART:20271107T090000
END:STANDARD
END:VTIMEZONE
BEGIN:VEVENT
DTSTART;TZID=America/Los_Angeles:20261017T060000
DTEND;TZID=America/Los_Angeles:20261017T070000
DTSTAMP:20260419T145128
CREATED:20241229T220726Z
LAST-MODIFIED:20260117T065424Z
UID:10000480-1792216800-1792220400@getstrongoregon.com
SUMMARY:Strong Saturday Men's Workout
DESCRIPTION:Come for the workout and stay for the fellowship!Pray with the men of Get Strong and then let us partner you up for a great workout while we blast worship music and get after it together for some good old fashioned gym church!Fellowship at Sisters Coffee to follow!Only cost: blood\, sweat and tears!
URL:https://getstrongoregon.com/event/get-strong-partner-workout-2/2026-10-17/
LOCATION:Level 5 CrossFit Sisters\, 625 N Arrowleaf Trail\, Sisters\, OR\, 97759
CATEGORIES:Men,Strong Saturday
ATTACH;FMTTYPE=image/jpeg:https://getstrongoregon.com/wp-content/uploads/2024/12/unnamed-7-scaled.jpg
END:VEVENT
BEGIN:VEVENT
DTSTART;TZID=America/Los_Angeles:20261017T064500
DTEND;TZID=America/Los_Angeles:20261017T074500
DTSTAMP:20260419T145128
CREATED:20250107T224938Z
LAST-MODIFIED:20260117T065318Z
UID:10000219-1792219500-1792223100@getstrongoregon.com
SUMMARY:Strong Saturday Women's Workout
DESCRIPTION:Come for the workout and stay for the fellowship!Pray with the women of Get Strong and then let us partner you up for a great workout while we blast worship music and get after it together for some good old-fashioned gym church! \n\n\n\nOnly cost: blood\, sweat and tears!
URL:https://getstrongoregon.com/event/get-strong-womens-partner-workout/2026-10-17/
LOCATION:Level 5 CrossFit Sisters\, 625 N Arrowleaf Trail\, Sisters\, OR\, 97759
CATEGORIES:Strong Saturday,Women
ATTACH;FMTTYPE=image/jpeg:https://getstrongoregon.com/wp-content/uploads/2025/01/unnamed-6-scaled.jpg
END:VEVENT
BEGIN:VEVENT
DTSTART;TZID=America/Los_Angeles:20261017T070000
DTEND;TZID=America/Los_Angeles:20261017T090000
DTSTAMP:20260419T145128
CREATED:20260112T203117Z
LAST-MODIFIED:20260114T033834Z
UID:10008730-1792220400-1792227600@getstrongoregon.com
SUMMARY:Senior Men's Get Strong Saturday
DESCRIPTION:Join us for Senior Men’s Get Strong Saturday. This includes a partner workout and a Scripture devotional. Come and join other seasoned men who are looking to stay sharpened\, both in the Word and in the body.
URL:https://getstrongoregon.com/event/senior-mens-get-strong-saturday/2026-10-17/
LOCATION:Strongbow Strength\, 625 N Arrowleaf Trail #106\, Sisters\, Oregon\, 97759
CATEGORIES:Discipleship Groups,Men,Strong Saturday
ATTACH;FMTTYPE=image/jpeg:https://getstrongoregon.com/wp-content/uploads/2026/01/IMG_7270-scaled.jpeg
END:VEVENT
BEGIN:VEVENT
DTSTART;TZID=America/Los_Angeles:20261024T060000
DTEND;TZID=America/Los_Angeles:20261024T070000
DTSTAMP:20260419T145128
CREATED:20241229T220726Z
LAST-MODIFIED:20260117T065424Z
UID:10000481-1792821600-1792825200@getstrongoregon.com
SUMMARY:Strong Saturday Men's Workout
DESCRIPTION:Come for the workout and stay for the fellowship!Pray with the men of Get Strong and then let us partner you up for a great workout while we blast worship music and get after it together for some good old fashioned gym church!Fellowship at Sisters Coffee to follow!Only cost: blood\, sweat and tears!
URL:https://getstrongoregon.com/event/get-strong-partner-workout-2/2026-10-24/
LOCATION:Level 5 CrossFit Sisters\, 625 N Arrowleaf Trail\, Sisters\, OR\, 97759
CATEGORIES:Men,Strong Saturday
ATTACH;FMTTYPE=image/jpeg:https://getstrongoregon.com/wp-content/uploads/2024/12/unnamed-7-scaled.jpg
END:VEVENT
BEGIN:VEVENT
DTSTART;TZID=America/Los_Angeles:20261024T064500
DTEND;TZID=America/Los_Angeles:20261024T074500
DTSTAMP:20260419T145128
CREATED:20250107T224938Z
LAST-MODIFIED:20260117T065318Z
UID:10000220-1792824300-1792827900@getstrongoregon.com
SUMMARY:Strong Saturday Women's Workout
DESCRIPTION:Come for the workout and stay for the fellowship!Pray with the women of Get Strong and then let us partner you up for a great workout while we blast worship music and get after it together for some good old-fashioned gym church! \n\n\n\nOnly cost: blood\, sweat and tears!
URL:https://getstrongoregon.com/event/get-strong-womens-partner-workout/2026-10-24/
LOCATION:Level 5 CrossFit Sisters\, 625 N Arrowleaf Trail\, Sisters\, OR\, 97759
CATEGORIES:Strong Saturday,Women
ATTACH;FMTTYPE=image/jpeg:https://getstrongoregon.com/wp-content/uploads/2025/01/unnamed-6-scaled.jpg
END:VEVENT
BEGIN:VEVENT
DTSTART;TZID=America/Los_Angeles:20261024T070000
DTEND;TZID=America/Los_Angeles:20261024T090000
DTSTAMP:20260419T145128
CREATED:20260112T203117Z
LAST-MODIFIED:20260114T033834Z
UID:10008731-1792825200-1792832400@getstrongoregon.com
SUMMARY:Senior Men's Get Strong Saturday
DESCRIPTION:Join us for Senior Men’s Get Strong Saturday. This includes a partner workout and a Scripture devotional. Come and join other seasoned men who are looking to stay sharpened\, both in the Word and in the body.
URL:https://getstrongoregon.com/event/senior-mens-get-strong-saturday/2026-10-24/
LOCATION:Strongbow Strength\, 625 N Arrowleaf Trail #106\, Sisters\, Oregon\, 97759
CATEGORIES:Discipleship Groups,Men,Strong Saturday
ATTACH;FMTTYPE=image/jpeg:https://getstrongoregon.com/wp-content/uploads/2026/01/IMG_7270-scaled.jpeg
END:VEVENT
BEGIN:VEVENT
DTSTART;TZID=America/Los_Angeles:20261031T060000
DTEND;TZID=America/Los_Angeles:20261031T070000
DTSTAMP:20260419T145128
CREATED:20241229T220726Z
LAST-MODIFIED:20260117T065424Z
UID:10000482-1793426400-1793430000@getstrongoregon.com
SUMMARY:Strong Saturday Men's Workout
DESCRIPTION:Come for the workout and stay for the fellowship!Pray with the men of Get Strong and then let us partner you up for a great workout while we blast worship music and get after it together for some good old fashioned gym church!Fellowship at Sisters Coffee to follow!Only cost: blood\, sweat and tears!
URL:https://getstrongoregon.com/event/get-strong-partner-workout-2/2026-10-31/
LOCATION:Level 5 CrossFit Sisters\, 625 N Arrowleaf Trail\, Sisters\, OR\, 97759
CATEGORIES:Men,Strong Saturday
ATTACH;FMTTYPE=image/jpeg:https://getstrongoregon.com/wp-content/uploads/2024/12/unnamed-7-scaled.jpg
END:VEVENT
BEGIN:VEVENT
DTSTART;TZID=America/Los_Angeles:20261031T064500
DTEND;TZID=America/Los_Angeles:20261031T074500
DTSTAMP:20260419T145128
CREATED:20250107T224938Z
LAST-MODIFIED:20260117T065318Z
UID:10000221-1793429100-1793432700@getstrongoregon.com
SUMMARY:Strong Saturday Women's Workout
DESCRIPTION:Come for the workout and stay for the fellowship!Pray with the women of Get Strong and then let us partner you up for a great workout while we blast worship music and get after it together for some good old-fashioned gym church! \n\n\n\nOnly cost: blood\, sweat and tears!
URL:https://getstrongoregon.com/event/get-strong-womens-partner-workout/2026-10-31/
LOCATION:Level 5 CrossFit Sisters\, 625 N Arrowleaf Trail\, Sisters\, OR\, 97759
CATEGORIES:Strong Saturday,Women
ATTACH;FMTTYPE=image/jpeg:https://getstrongoregon.com/wp-content/uploads/2025/01/unnamed-6-scaled.jpg
END:VEVENT
BEGIN:VEVENT
DTSTART;TZID=America/Los_Angeles:20261031T070000
DTEND;TZID=America/Los_Angeles:20261031T090000
DTSTAMP:20260419T145128
CREATED:20260112T203117Z
LAST-MODIFIED:20260114T033834Z
UID:10008732-1793430000-1793437200@getstrongoregon.com
SUMMARY:Senior Men's Get Strong Saturday
DESCRIPTION:Join us for Senior Men’s Get Strong Saturday. This includes a partner workout and a Scripture devotional. Come and join other seasoned men who are looking to stay sharpened\, both in the Word and in the body.
URL:https://getstrongoregon.com/event/senior-mens-get-strong-saturday/2026-10-31/
LOCATION:Strongbow Strength\, 625 N Arrowleaf Trail #106\, Sisters\, Oregon\, 97759
CATEGORIES:Discipleship Groups,Men,Strong Saturday
ATTACH;FMTTYPE=image/jpeg:https://getstrongoregon.com/wp-content/uploads/2026/01/IMG_7270-scaled.jpeg
END:VEVENT
BEGIN:VEVENT
DTSTART;TZID=America/Los_Angeles:20261107T060000
DTEND;TZID=America/Los_Angeles:20261107T070000
DTSTAMP:20260419T145128
CREATED:20241229T220726Z
LAST-MODIFIED:20260117T065424Z
UID:10000483-1794031200-1794034800@getstrongoregon.com
SUMMARY:Strong Saturday Men's Workout
DESCRIPTION:Come for the workout and stay for the fellowship!Pray with the men of Get Strong and then let us partner you up for a great workout while we blast worship music and get after it together for some good old fashioned gym church!Fellowship at Sisters Coffee to follow!Only cost: blood\, sweat and tears!
URL:https://getstrongoregon.com/event/get-strong-partner-workout-2/2026-11-07/
LOCATION:Level 5 CrossFit Sisters\, 625 N Arrowleaf Trail\, Sisters\, OR\, 97759
CATEGORIES:Men,Strong Saturday
ATTACH;FMTTYPE=image/jpeg:https://getstrongoregon.com/wp-content/uploads/2024/12/unnamed-7-scaled.jpg
END:VEVENT
BEGIN:VEVENT
DTSTART;TZID=America/Los_Angeles:20261107T064500
DTEND;TZID=America/Los_Angeles:20261107T074500
DTSTAMP:20260419T145128
CREATED:20250107T224938Z
LAST-MODIFIED:20260117T065318Z
UID:10000222-1794033900-1794037500@getstrongoregon.com
SUMMARY:Strong Saturday Women's Workout
DESCRIPTION:Come for the workout and stay for the fellowship!Pray with the women of Get Strong and then let us partner you up for a great workout while we blast worship music and get after it together for some good old-fashioned gym church! \n\n\n\nOnly cost: blood\, sweat and tears!
URL:https://getstrongoregon.com/event/get-strong-womens-partner-workout/2026-11-07/
LOCATION:Level 5 CrossFit Sisters\, 625 N Arrowleaf Trail\, Sisters\, OR\, 97759
CATEGORIES:Strong Saturday,Women
ATTACH;FMTTYPE=image/jpeg:https://getstrongoregon.com/wp-content/uploads/2025/01/unnamed-6-scaled.jpg
END:VEVENT
BEGIN:VEVENT
DTSTART;TZID=America/Los_Angeles:20261107T070000
DTEND;TZID=America/Los_Angeles:20261107T090000
DTSTAMP:20260419T145128
CREATED:20260112T203117Z
LAST-MODIFIED:20260114T033834Z
UID:10008733-1794034800-1794042000@getstrongoregon.com
SUMMARY:Senior Men's Get Strong Saturday
DESCRIPTION:Join us for Senior Men’s Get Strong Saturday. This includes a partner workout and a Scripture devotional. Come and join other seasoned men who are looking to stay sharpened\, both in the Word and in the body.
URL:https://getstrongoregon.com/event/senior-mens-get-strong-saturday/2026-11-07/
LOCATION:Strongbow Strength\, 625 N Arrowleaf Trail #106\, Sisters\, Oregon\, 97759
CATEGORIES:Discipleship Groups,Men,Strong Saturday
ATTACH;FMTTYPE=image/jpeg:https://getstrongoregon.com/wp-content/uploads/2026/01/IMG_7270-scaled.jpeg
END:VEVENT
BEGIN:VEVENT
DTSTART;TZID=America/Los_Angeles:20261114T060000
DTEND;TZID=America/Los_Angeles:20261114T070000
DTSTAMP:20260419T145128
CREATED:20241229T220726Z
LAST-MODIFIED:20260117T065424Z
UID:10000484-1794636000-1794639600@getstrongoregon.com
SUMMARY:Strong Saturday Men's Workout
DESCRIPTION:Come for the workout and stay for the fellowship!Pray with the men of Get Strong and then let us partner you up for a great workout while we blast worship music and get after it together for some good old fashioned gym church!Fellowship at Sisters Coffee to follow!Only cost: blood\, sweat and tears!
URL:https://getstrongoregon.com/event/get-strong-partner-workout-2/2026-11-14/
LOCATION:Level 5 CrossFit Sisters\, 625 N Arrowleaf Trail\, Sisters\, OR\, 97759
CATEGORIES:Men,Strong Saturday
ATTACH;FMTTYPE=image/jpeg:https://getstrongoregon.com/wp-content/uploads/2024/12/unnamed-7-scaled.jpg
END:VEVENT
BEGIN:VEVENT
DTSTART;TZID=America/Los_Angeles:20261114T064500
DTEND;TZID=America/Los_Angeles:20261114T074500
DTSTAMP:20260419T145128
CREATED:20250107T224938Z
LAST-MODIFIED:20260117T065318Z
UID:10000223-1794638700-1794642300@getstrongoregon.com
SUMMARY:Strong Saturday Women's Workout
DESCRIPTION:Come for the workout and stay for the fellowship!Pray with the women of Get Strong and then let us partner you up for a great workout while we blast worship music and get after it together for some good old-fashioned gym church! \n\n\n\nOnly cost: blood\, sweat and tears!
URL:https://getstrongoregon.com/event/get-strong-womens-partner-workout/2026-11-14/
LOCATION:Level 5 CrossFit Sisters\, 625 N Arrowleaf Trail\, Sisters\, OR\, 97759
CATEGORIES:Strong Saturday,Women
ATTACH;FMTTYPE=image/jpeg:https://getstrongoregon.com/wp-content/uploads/2025/01/unnamed-6-scaled.jpg
END:VEVENT
BEGIN:VEVENT
DTSTART;TZID=America/Los_Angeles:20261114T070000
DTEND;TZID=America/Los_Angeles:20261114T090000
DTSTAMP:20260419T145128
CREATED:20260112T203117Z
LAST-MODIFIED:20260114T033834Z
UID:10008734-1794639600-1794646800@getstrongoregon.com
SUMMARY:Senior Men's Get Strong Saturday
DESCRIPTION:Join us for Senior Men’s Get Strong Saturday. This includes a partner workout and a Scripture devotional. Come and join other seasoned men who are looking to stay sharpened\, both in the Word and in the body.
URL:https://getstrongoregon.com/event/senior-mens-get-strong-saturday/2026-11-14/
LOCATION:Strongbow Strength\, 625 N Arrowleaf Trail #106\, Sisters\, Oregon\, 97759
CATEGORIES:Discipleship Groups,Men,Strong Saturday
ATTACH;FMTTYPE=image/jpeg:https://getstrongoregon.com/wp-content/uploads/2026/01/IMG_7270-scaled.jpeg
END:VEVENT
BEGIN:VEVENT
DTSTART;TZID=America/Los_Angeles:20261121T060000
DTEND;TZID=America/Los_Angeles:20261121T070000
DTSTAMP:20260419T145128
CREATED:20241229T220726Z
LAST-MODIFIED:20260117T065424Z
UID:10000485-1795240800-1795244400@getstrongoregon.com
SUMMARY:Strong Saturday Men's Workout
DESCRIPTION:Come for the workout and stay for the fellowship!Pray with the men of Get Strong and then let us partner you up for a great workout while we blast worship music and get after it together for some good old fashioned gym church!Fellowship at Sisters Coffee to follow!Only cost: blood\, sweat and tears!
URL:https://getstrongoregon.com/event/get-strong-partner-workout-2/2026-11-21/
LOCATION:Level 5 CrossFit Sisters\, 625 N Arrowleaf Trail\, Sisters\, OR\, 97759
CATEGORIES:Men,Strong Saturday
ATTACH;FMTTYPE=image/jpeg:https://getstrongoregon.com/wp-content/uploads/2024/12/unnamed-7-scaled.jpg
END:VEVENT
BEGIN:VEVENT
DTSTART;TZID=America/Los_Angeles:20261121T064500
DTEND;TZID=America/Los_Angeles:20261121T074500
DTSTAMP:20260419T145128
CREATED:20250107T224938Z
LAST-MODIFIED:20260117T065318Z
UID:10000224-1795243500-1795247100@getstrongoregon.com
SUMMARY:Strong Saturday Women's Workout
DESCRIPTION:Come for the workout and stay for the fellowship!Pray with the women of Get Strong and then let us partner you up for a great workout while we blast worship music and get after it together for some good old-fashioned gym church! \n\n\n\nOnly cost: blood\, sweat and tears!
URL:https://getstrongoregon.com/event/get-strong-womens-partner-workout/2026-11-21/
LOCATION:Level 5 CrossFit Sisters\, 625 N Arrowleaf Trail\, Sisters\, OR\, 97759
CATEGORIES:Strong Saturday,Women
ATTACH;FMTTYPE=image/jpeg:https://getstrongoregon.com/wp-content/uploads/2025/01/unnamed-6-scaled.jpg
END:VEVENT
BEGIN:VEVENT
DTSTART;TZID=America/Los_Angeles:20261121T070000
DTEND;TZID=America/Los_Angeles:20261121T090000
DTSTAMP:20260419T145128
CREATED:20260112T203117Z
LAST-MODIFIED:20260114T033834Z
UID:10008735-1795244400-1795251600@getstrongoregon.com
SUMMARY:Senior Men's Get Strong Saturday
DESCRIPTION:Join us for Senior Men’s Get Strong Saturday. This includes a partner workout and a Scripture devotional. Come and join other seasoned men who are looking to stay sharpened\, both in the Word and in the body.
URL:https://getstrongoregon.com/event/senior-mens-get-strong-saturday/2026-11-21/
LOCATION:Strongbow Strength\, 625 N Arrowleaf Trail #106\, Sisters\, Oregon\, 97759
CATEGORIES:Discipleship Groups,Men,Strong Saturday
ATTACH;FMTTYPE=image/jpeg:https://getstrongoregon.com/wp-content/uploads/2026/01/IMG_7270-scaled.jpeg
END:VEVENT
BEGIN:VEVENT
DTSTART;TZID=America/Los_Angeles:20261128T060000
DTEND;TZID=America/Los_Angeles:20261128T070000
DTSTAMP:20260419T145128
CREATED:20241229T220726Z
LAST-MODIFIED:20260117T065424Z
UID:10000486-1795845600-1795849200@getstrongoregon.com
SUMMARY:Strong Saturday Men's Workout
DESCRIPTION:Come for the workout and stay for the fellowship!Pray with the men of Get Strong and then let us partner you up for a great workout while we blast worship music and get after it together for some good old fashioned gym church!Fellowship at Sisters Coffee to follow!Only cost: blood\, sweat and tears!
URL:https://getstrongoregon.com/event/get-strong-partner-workout-2/2026-11-28/
LOCATION:Level 5 CrossFit Sisters\, 625 N Arrowleaf Trail\, Sisters\, OR\, 97759
CATEGORIES:Men,Strong Saturday
ATTACH;FMTTYPE=image/jpeg:https://getstrongoregon.com/wp-content/uploads/2024/12/unnamed-7-scaled.jpg
END:VEVENT
BEGIN:VEVENT
DTSTART;TZID=America/Los_Angeles:20261128T064500
DTEND;TZID=America/Los_Angeles:20261128T074500
DTSTAMP:20260419T145128
CREATED:20250107T224938Z
LAST-MODIFIED:20260117T065318Z
UID:10000225-1795848300-1795851900@getstrongoregon.com
SUMMARY:Strong Saturday Women's Workout
DESCRIPTION:Come for the workout and stay for the fellowship!Pray with the women of Get Strong and then let us partner you up for a great workout while we blast worship music and get after it together for some good old-fashioned gym church! \n\n\n\nOnly cost: blood\, sweat and tears!
URL:https://getstrongoregon.com/event/get-strong-womens-partner-workout/2026-11-28/
LOCATION:Level 5 CrossFit Sisters\, 625 N Arrowleaf Trail\, Sisters\, OR\, 97759
CATEGORIES:Strong Saturday,Women
ATTACH;FMTTYPE=image/jpeg:https://getstrongoregon.com/wp-content/uploads/2025/01/unnamed-6-scaled.jpg
END:VEVENT
BEGIN:VEVENT
DTSTART;TZID=America/Los_Angeles:20261128T070000
DTEND;TZID=America/Los_Angeles:20261128T090000
DTSTAMP:20260419T145128
CREATED:20260112T203117Z
LAST-MODIFIED:20260114T033834Z
UID:10008736-1795849200-1795856400@getstrongoregon.com
SUMMARY:Senior Men's Get Strong Saturday
DESCRIPTION:Join us for Senior Men’s Get Strong Saturday. This includes a partner workout and a Scripture devotional. Come and join other seasoned men who are looking to stay sharpened\, both in the Word and in the body.
URL:https://getstrongoregon.com/event/senior-mens-get-strong-saturday/2026-11-28/
LOCATION:Strongbow Strength\, 625 N Arrowleaf Trail #106\, Sisters\, Oregon\, 97759
CATEGORIES:Discipleship Groups,Men,Strong Saturday
ATTACH;FMTTYPE=image/jpeg:https://getstrongoregon.com/wp-content/uploads/2026/01/IMG_7270-scaled.jpeg
END:VEVENT
BEGIN:VEVENT
DTSTART;TZID=America/Los_Angeles:20261205T060000
DTEND;TZID=America/Los_Angeles:20261205T070000
DTSTAMP:20260419T145128
CREATED:20241229T220726Z
LAST-MODIFIED:20260117T065424Z
UID:10000487-1796450400-1796454000@getstrongoregon.com
SUMMARY:Strong Saturday Men's Workout
DESCRIPTION:Come for the workout and stay for the fellowship!Pray with the men of Get Strong and then let us partner you up for a great workout while we blast worship music and get after it together for some good old fashioned gym church!Fellowship at Sisters Coffee to follow!Only cost: blood\, sweat and tears!
URL:https://getstrongoregon.com/event/get-strong-partner-workout-2/2026-12-05/
LOCATION:Level 5 CrossFit Sisters\, 625 N Arrowleaf Trail\, Sisters\, OR\, 97759
CATEGORIES:Men,Strong Saturday
ATTACH;FMTTYPE=image/jpeg:https://getstrongoregon.com/wp-content/uploads/2024/12/unnamed-7-scaled.jpg
END:VEVENT
BEGIN:VEVENT
DTSTART;TZID=America/Los_Angeles:20261205T064500
DTEND;TZID=America/Los_Angeles:20261205T074500
DTSTAMP:20260419T145128
CREATED:20250107T224938Z
LAST-MODIFIED:20260117T065318Z
UID:10000226-1796453100-1796456700@getstrongoregon.com
SUMMARY:Strong Saturday Women's Workout
DESCRIPTION:Come for the workout and stay for the fellowship!Pray with the women of Get Strong and then let us partner you up for a great workout while we blast worship music and get after it together for some good old-fashioned gym church! \n\n\n\nOnly cost: blood\, sweat and tears!
URL:https://getstrongoregon.com/event/get-strong-womens-partner-workout/2026-12-05/
LOCATION:Level 5 CrossFit Sisters\, 625 N Arrowleaf Trail\, Sisters\, OR\, 97759
CATEGORIES:Strong Saturday,Women
ATTACH;FMTTYPE=image/jpeg:https://getstrongoregon.com/wp-content/uploads/2025/01/unnamed-6-scaled.jpg
END:VEVENT
BEGIN:VEVENT
DTSTART;TZID=America/Los_Angeles:20261205T070000
DTEND;TZID=America/Los_Angeles:20261205T090000
DTSTAMP:20260419T145128
CREATED:20260112T203117Z
LAST-MODIFIED:20260114T033834Z
UID:10008737-1796454000-1796461200@getstrongoregon.com
SUMMARY:Senior Men's Get Strong Saturday
DESCRIPTION:Join us for Senior Men’s Get Strong Saturday. This includes a partner workout and a Scripture devotional. Come and join other seasoned men who are looking to stay sharpened\, both in the Word and in the body.
URL:https://getstrongoregon.com/event/senior-mens-get-strong-saturday/2026-12-05/
LOCATION:Strongbow Strength\, 625 N Arrowleaf Trail #106\, Sisters\, Oregon\, 97759
CATEGORIES:Discipleship Groups,Men,Strong Saturday
ATTACH;FMTTYPE=image/jpeg:https://getstrongoregon.com/wp-content/uploads/2026/01/IMG_7270-scaled.jpeg
END:VEVENT
BEGIN:VEVENT
DTSTART;TZID=America/Los_Angeles:20261212T060000
DTEND;TZID=America/Los_Angeles:20261212T070000
DTSTAMP:20260419T145128
CREATED:20241229T220726Z
LAST-MODIFIED:20260117T065424Z
UID:10000488-1797055200-1797058800@getstrongoregon.com
SUMMARY:Strong Saturday Men's Workout
DESCRIPTION:Come for the workout and stay for the fellowship!Pray with the men of Get Strong and then let us partner you up for a great workout while we blast worship music and get after it together for some good old fashioned gym church!Fellowship at Sisters Coffee to follow!Only cost: blood\, sweat and tears!
URL:https://getstrongoregon.com/event/get-strong-partner-workout-2/2026-12-12/
LOCATION:Level 5 CrossFit Sisters\, 625 N Arrowleaf Trail\, Sisters\, OR\, 97759
CATEGORIES:Men,Strong Saturday
ATTACH;FMTTYPE=image/jpeg:https://getstrongoregon.com/wp-content/uploads/2024/12/unnamed-7-scaled.jpg
END:VEVENT
BEGIN:VEVENT
DTSTART;TZID=America/Los_Angeles:20261212T064500
DTEND;TZID=America/Los_Angeles:20261212T074500
DTSTAMP:20260419T145128
CREATED:20250107T224938Z
LAST-MODIFIED:20260117T065318Z
UID:10000227-1797057900-1797061500@getstrongoregon.com
SUMMARY:Strong Saturday Women's Workout
DESCRIPTION:Come for the workout and stay for the fellowship!Pray with the women of Get Strong and then let us partner you up for a great workout while we blast worship music and get after it together for some good old-fashioned gym church! \n\n\n\nOnly cost: blood\, sweat and tears!
URL:https://getstrongoregon.com/event/get-strong-womens-partner-workout/2026-12-12/
LOCATION:Level 5 CrossFit Sisters\, 625 N Arrowleaf Trail\, Sisters\, OR\, 97759
CATEGORIES:Strong Saturday,Women
ATTACH;FMTTYPE=image/jpeg:https://getstrongoregon.com/wp-content/uploads/2025/01/unnamed-6-scaled.jpg
END:VEVENT
BEGIN:VEVENT
DTSTART;TZID=America/Los_Angeles:20261212T070000
DTEND;TZID=America/Los_Angeles:20261212T090000
DTSTAMP:20260419T145128
CREATED:20260112T203117Z
LAST-MODIFIED:20260114T033834Z
UID:10008738-1797058800-1797066000@getstrongoregon.com
SUMMARY:Senior Men's Get Strong Saturday
DESCRIPTION:Join us for Senior Men’s Get Strong Saturday. This includes a partner workout and a Scripture devotional. Come and join other seasoned men who are looking to stay sharpened\, both in the Word and in the body.
URL:https://getstrongoregon.com/event/senior-mens-get-strong-saturday/2026-12-12/
LOCATION:Strongbow Strength\, 625 N Arrowleaf Trail #106\, Sisters\, Oregon\, 97759
CATEGORIES:Discipleship Groups,Men,Strong Saturday
ATTACH;FMTTYPE=image/jpeg:https://getstrongoregon.com/wp-content/uploads/2026/01/IMG_7270-scaled.jpeg
END:VEVENT
BEGIN:VEVENT
DTSTART;TZID=America/Los_Angeles:20261219T060000
DTEND;TZID=America/Los_Angeles:20261219T070000
DTSTAMP:20260419T145128
CREATED:20241229T220726Z
LAST-MODIFIED:20260117T065424Z
UID:10000489-1797660000-1797663600@getstrongoregon.com
SUMMARY:Strong Saturday Men's Workout
DESCRIPTION:Come for the workout and stay for the fellowship!Pray with the men of Get Strong and then let us partner you up for a great workout while we blast worship music and get after it together for some good old fashioned gym church!Fellowship at Sisters Coffee to follow!Only cost: blood\, sweat and tears!
URL:https://getstrongoregon.com/event/get-strong-partner-workout-2/2026-12-19/
LOCATION:Level 5 CrossFit Sisters\, 625 N Arrowleaf Trail\, Sisters\, OR\, 97759
CATEGORIES:Men,Strong Saturday
ATTACH;FMTTYPE=image/jpeg:https://getstrongoregon.com/wp-content/uploads/2024/12/unnamed-7-scaled.jpg
END:VEVENT
BEGIN:VEVENT
DTSTART;TZID=America/Los_Angeles:20261219T064500
DTEND;TZID=America/Los_Angeles:20261219T074500
DTSTAMP:20260419T145128
CREATED:20250107T224938Z
LAST-MODIFIED:20260117T065318Z
UID:10000228-1797662700-1797666300@getstrongoregon.com
SUMMARY:Strong Saturday Women's Workout
DESCRIPTION:Come for the workout and stay for the fellowship!Pray with the women of Get Strong and then let us partner you up for a great workout while we blast worship music and get after it together for some good old-fashioned gym church! \n\n\n\nOnly cost: blood\, sweat and tears!
URL:https://getstrongoregon.com/event/get-strong-womens-partner-workout/2026-12-19/
LOCATION:Level 5 CrossFit Sisters\, 625 N Arrowleaf Trail\, Sisters\, OR\, 97759
CATEGORIES:Strong Saturday,Women
ATTACH;FMTTYPE=image/jpeg:https://getstrongoregon.com/wp-content/uploads/2025/01/unnamed-6-scaled.jpg
END:VEVENT
BEGIN:VEVENT
DTSTART;TZID=America/Los_Angeles:20261219T070000
DTEND;TZID=America/Los_Angeles:20261219T090000
DTSTAMP:20260419T145128
CREATED:20260112T203117Z
LAST-MODIFIED:20260114T033834Z
UID:10008739-1797663600-1797670800@getstrongoregon.com
SUMMARY:Senior Men's Get Strong Saturday
DESCRIPTION:Join us for Senior Men’s Get Strong Saturday. This includes a partner workout and a Scripture devotional. Come and join other seasoned men who are looking to stay sharpened\, both in the Word and in the body.
URL:https://getstrongoregon.com/event/senior-mens-get-strong-saturday/2026-12-19/
LOCATION:Strongbow Strength\, 625 N Arrowleaf Trail #106\, Sisters\, Oregon\, 97759
CATEGORIES:Discipleship Groups,Men,Strong Saturday
ATTACH;FMTTYPE=image/jpeg:https://getstrongoregon.com/wp-content/uploads/2026/01/IMG_7270-scaled.jpeg
END:VEVENT
END:VCALENDAR