BEGIN:VCALENDAR
VERSION:2.0
PRODID:-//Get Strong Oregon - ECPv6.15.20//NONSGML v1.0//EN
CALSCALE:GREGORIAN
METHOD:PUBLISH
X-ORIGINAL-URL:https://getstrongoregon.com
X-WR-CALDESC:Events for Get Strong Oregon
REFRESH-INTERVAL;VALUE=DURATION:PT1H
X-Robots-Tag:noindex
X-PUBLISHED-TTL:PT1H
BEGIN:VTIMEZONE
TZID:America/Los_Angeles
BEGIN:DAYLIGHT
TZOFFSETFROM:-0800
TZOFFSETTO:-0700
TZNAME:PDT
DTSTART:20260308T100000
END:DAYLIGHT
BEGIN:STANDARD
TZOFFSETFROM:-0700
TZOFFSETTO:-0800
TZNAME:PST
DTSTART:20261101T090000
END:STANDARD
BEGIN:DAYLIGHT
TZOFFSETFROM:-0800
TZOFFSETTO:-0700
TZNAME:PDT
DTSTART:20270314T100000
END:DAYLIGHT
BEGIN:STANDARD
TZOFFSETFROM:-0700
TZOFFSETTO:-0800
TZNAME:PST
DTSTART:20271107T090000
END:STANDARD
BEGIN:DAYLIGHT
TZOFFSETFROM:-0800
TZOFFSETTO:-0700
TZNAME:PDT
DTSTART:20280312T100000
END:DAYLIGHT
BEGIN:STANDARD
TZOFFSETFROM:-0700
TZOFFSETTO:-0800
TZNAME:PST
DTSTART:20281105T090000
END:STANDARD
END:VTIMEZONE
BEGIN:VEVENT
DTSTART;TZID=America/Los_Angeles:20270109T060000
DTEND;TZID=America/Los_Angeles:20270109T070000
DTSTAMP:20260421T105806
CREATED:20241229T220726Z
LAST-MODIFIED:20260117T065424Z
UID:10000492-1799474400-1799478000@getstrongoregon.com
SUMMARY:Strong Saturday Men's Workout
DESCRIPTION:Come for the workout and stay for the fellowship!Pray with the men of Get Strong and then let us partner you up for a great workout while we blast worship music and get after it together for some good old fashioned gym church!Fellowship at Sisters Coffee to follow!Only cost: blood\, sweat and tears!
URL:https://getstrongoregon.com/event/get-strong-partner-workout-2/2027-01-09/
LOCATION:Level 5 CrossFit Sisters\, 625 N Arrowleaf Trail\, Sisters\, OR\, 97759
CATEGORIES:Men,Strong Saturday
ATTACH;FMTTYPE=image/jpeg:https://getstrongoregon.com/wp-content/uploads/2024/12/unnamed-7-scaled.jpg
END:VEVENT
BEGIN:VEVENT
DTSTART;TZID=America/Los_Angeles:20270109T064500
DTEND;TZID=America/Los_Angeles:20270109T074500
DTSTAMP:20260421T105806
CREATED:20250107T224938Z
LAST-MODIFIED:20260117T065318Z
UID:10000231-1799477100-1799480700@getstrongoregon.com
SUMMARY:Strong Saturday Women's Workout
DESCRIPTION:Come for the workout and stay for the fellowship!Pray with the women of Get Strong and then let us partner you up for a great workout while we blast worship music and get after it together for some good old-fashioned gym church! \n\n\n\nOnly cost: blood\, sweat and tears!
URL:https://getstrongoregon.com/event/get-strong-womens-partner-workout/2027-01-09/
LOCATION:Level 5 CrossFit Sisters\, 625 N Arrowleaf Trail\, Sisters\, OR\, 97759
CATEGORIES:Strong Saturday,Women
ATTACH;FMTTYPE=image/jpeg:https://getstrongoregon.com/wp-content/uploads/2025/01/unnamed-6-scaled.jpg
END:VEVENT
BEGIN:VEVENT
DTSTART;TZID=America/Los_Angeles:20270109T070000
DTEND;TZID=America/Los_Angeles:20270109T090000
DTSTAMP:20260421T105806
CREATED:20260112T203117Z
LAST-MODIFIED:20260114T033834Z
UID:10008742-1799478000-1799485200@getstrongoregon.com
SUMMARY:Senior Men's Get Strong Saturday
DESCRIPTION:Join us for Senior Men’s Get Strong Saturday. This includes a partner workout and a Scripture devotional. Come and join other seasoned men who are looking to stay sharpened\, both in the Word and in the body.
URL:https://getstrongoregon.com/event/senior-mens-get-strong-saturday/2027-01-09/
LOCATION:Strongbow Strength\, 625 N Arrowleaf Trail #106\, Sisters\, Oregon\, 97759
CATEGORIES:Discipleship Groups,Men,Strong Saturday
ATTACH;FMTTYPE=image/jpeg:https://getstrongoregon.com/wp-content/uploads/2026/01/IMG_7270-scaled.jpeg
END:VEVENT
BEGIN:VEVENT
DTSTART;TZID=America/Los_Angeles:20270116T060000
DTEND;TZID=America/Los_Angeles:20270116T070000
DTSTAMP:20260421T105806
CREATED:20241229T220726Z
LAST-MODIFIED:20260117T065424Z
UID:10000493-1800079200-1800082800@getstrongoregon.com
SUMMARY:Strong Saturday Men's Workout
DESCRIPTION:Come for the workout and stay for the fellowship!Pray with the men of Get Strong and then let us partner you up for a great workout while we blast worship music and get after it together for some good old fashioned gym church!Fellowship at Sisters Coffee to follow!Only cost: blood\, sweat and tears!
URL:https://getstrongoregon.com/event/get-strong-partner-workout-2/2027-01-16/
LOCATION:Level 5 CrossFit Sisters\, 625 N Arrowleaf Trail\, Sisters\, OR\, 97759
CATEGORIES:Men,Strong Saturday
ATTACH;FMTTYPE=image/jpeg:https://getstrongoregon.com/wp-content/uploads/2024/12/unnamed-7-scaled.jpg
END:VEVENT
BEGIN:VEVENT
DTSTART;TZID=America/Los_Angeles:20270116T064500
DTEND;TZID=America/Los_Angeles:20270116T074500
DTSTAMP:20260421T105806
CREATED:20250107T224938Z
LAST-MODIFIED:20260117T065318Z
UID:10000232-1800081900-1800085500@getstrongoregon.com
SUMMARY:Strong Saturday Women's Workout
DESCRIPTION:Come for the workout and stay for the fellowship!Pray with the women of Get Strong and then let us partner you up for a great workout while we blast worship music and get after it together for some good old-fashioned gym church! \n\n\n\nOnly cost: blood\, sweat and tears!
URL:https://getstrongoregon.com/event/get-strong-womens-partner-workout/2027-01-16/
LOCATION:Level 5 CrossFit Sisters\, 625 N Arrowleaf Trail\, Sisters\, OR\, 97759
CATEGORIES:Strong Saturday,Women
ATTACH;FMTTYPE=image/jpeg:https://getstrongoregon.com/wp-content/uploads/2025/01/unnamed-6-scaled.jpg
END:VEVENT
BEGIN:VEVENT
DTSTART;TZID=America/Los_Angeles:20270116T070000
DTEND;TZID=America/Los_Angeles:20270116T090000
DTSTAMP:20260421T105806
CREATED:20260112T203117Z
LAST-MODIFIED:20260114T033834Z
UID:10008743-1800082800-1800090000@getstrongoregon.com
SUMMARY:Senior Men's Get Strong Saturday
DESCRIPTION:Join us for Senior Men’s Get Strong Saturday. This includes a partner workout and a Scripture devotional. Come and join other seasoned men who are looking to stay sharpened\, both in the Word and in the body.
URL:https://getstrongoregon.com/event/senior-mens-get-strong-saturday/2027-01-16/
LOCATION:Strongbow Strength\, 625 N Arrowleaf Trail #106\, Sisters\, Oregon\, 97759
CATEGORIES:Discipleship Groups,Men,Strong Saturday
ATTACH;FMTTYPE=image/jpeg:https://getstrongoregon.com/wp-content/uploads/2026/01/IMG_7270-scaled.jpeg
END:VEVENT
BEGIN:VEVENT
DTSTART;TZID=America/Los_Angeles:20270123T060000
DTEND;TZID=America/Los_Angeles:20270123T070000
DTSTAMP:20260421T105806
CREATED:20241229T220726Z
LAST-MODIFIED:20260117T065424Z
UID:10000494-1800684000-1800687600@getstrongoregon.com
SUMMARY:Strong Saturday Men's Workout
DESCRIPTION:Come for the workout and stay for the fellowship!Pray with the men of Get Strong and then let us partner you up for a great workout while we blast worship music and get after it together for some good old fashioned gym church!Fellowship at Sisters Coffee to follow!Only cost: blood\, sweat and tears!
URL:https://getstrongoregon.com/event/get-strong-partner-workout-2/2027-01-23/
LOCATION:Level 5 CrossFit Sisters\, 625 N Arrowleaf Trail\, Sisters\, OR\, 97759
CATEGORIES:Men,Strong Saturday
ATTACH;FMTTYPE=image/jpeg:https://getstrongoregon.com/wp-content/uploads/2024/12/unnamed-7-scaled.jpg
END:VEVENT
BEGIN:VEVENT
DTSTART;TZID=America/Los_Angeles:20270123T064500
DTEND;TZID=America/Los_Angeles:20270123T074500
DTSTAMP:20260421T105806
CREATED:20250107T224938Z
LAST-MODIFIED:20260117T065318Z
UID:10000233-1800686700-1800690300@getstrongoregon.com
SUMMARY:Strong Saturday Women's Workout
DESCRIPTION:Come for the workout and stay for the fellowship!Pray with the women of Get Strong and then let us partner you up for a great workout while we blast worship music and get after it together for some good old-fashioned gym church! \n\n\n\nOnly cost: blood\, sweat and tears!
URL:https://getstrongoregon.com/event/get-strong-womens-partner-workout/2027-01-23/
LOCATION:Level 5 CrossFit Sisters\, 625 N Arrowleaf Trail\, Sisters\, OR\, 97759
CATEGORIES:Strong Saturday,Women
ATTACH;FMTTYPE=image/jpeg:https://getstrongoregon.com/wp-content/uploads/2025/01/unnamed-6-scaled.jpg
END:VEVENT
BEGIN:VEVENT
DTSTART;TZID=America/Los_Angeles:20270123T070000
DTEND;TZID=America/Los_Angeles:20270123T090000
DTSTAMP:20260421T105806
CREATED:20260112T203117Z
LAST-MODIFIED:20260114T033834Z
UID:10008744-1800687600-1800694800@getstrongoregon.com
SUMMARY:Senior Men's Get Strong Saturday
DESCRIPTION:Join us for Senior Men’s Get Strong Saturday. This includes a partner workout and a Scripture devotional. Come and join other seasoned men who are looking to stay sharpened\, both in the Word and in the body.
URL:https://getstrongoregon.com/event/senior-mens-get-strong-saturday/2027-01-23/
LOCATION:Strongbow Strength\, 625 N Arrowleaf Trail #106\, Sisters\, Oregon\, 97759
CATEGORIES:Discipleship Groups,Men,Strong Saturday
ATTACH;FMTTYPE=image/jpeg:https://getstrongoregon.com/wp-content/uploads/2026/01/IMG_7270-scaled.jpeg
END:VEVENT
BEGIN:VEVENT
DTSTART;TZID=America/Los_Angeles:20270130T060000
DTEND;TZID=America/Los_Angeles:20270130T070000
DTSTAMP:20260421T105806
CREATED:20241229T220726Z
LAST-MODIFIED:20260117T065424Z
UID:10000495-1801288800-1801292400@getstrongoregon.com
SUMMARY:Strong Saturday Men's Workout
DESCRIPTION:Come for the workout and stay for the fellowship!Pray with the men of Get Strong and then let us partner you up for a great workout while we blast worship music and get after it together for some good old fashioned gym church!Fellowship at Sisters Coffee to follow!Only cost: blood\, sweat and tears!
URL:https://getstrongoregon.com/event/get-strong-partner-workout-2/2027-01-30/
LOCATION:Level 5 CrossFit Sisters\, 625 N Arrowleaf Trail\, Sisters\, OR\, 97759
CATEGORIES:Men,Strong Saturday
ATTACH;FMTTYPE=image/jpeg:https://getstrongoregon.com/wp-content/uploads/2024/12/unnamed-7-scaled.jpg
END:VEVENT
BEGIN:VEVENT
DTSTART;TZID=America/Los_Angeles:20270130T064500
DTEND;TZID=America/Los_Angeles:20270130T074500
DTSTAMP:20260421T105806
CREATED:20250107T224938Z
LAST-MODIFIED:20260117T065318Z
UID:10000234-1801291500-1801295100@getstrongoregon.com
SUMMARY:Strong Saturday Women's Workout
DESCRIPTION:Come for the workout and stay for the fellowship!Pray with the women of Get Strong and then let us partner you up for a great workout while we blast worship music and get after it together for some good old-fashioned gym church! \n\n\n\nOnly cost: blood\, sweat and tears!
URL:https://getstrongoregon.com/event/get-strong-womens-partner-workout/2027-01-30/
LOCATION:Level 5 CrossFit Sisters\, 625 N Arrowleaf Trail\, Sisters\, OR\, 97759
CATEGORIES:Strong Saturday,Women
ATTACH;FMTTYPE=image/jpeg:https://getstrongoregon.com/wp-content/uploads/2025/01/unnamed-6-scaled.jpg
END:VEVENT
BEGIN:VEVENT
DTSTART;TZID=America/Los_Angeles:20270130T070000
DTEND;TZID=America/Los_Angeles:20270130T090000
DTSTAMP:20260421T105806
CREATED:20260112T203117Z
LAST-MODIFIED:20260114T033834Z
UID:10008745-1801292400-1801299600@getstrongoregon.com
SUMMARY:Senior Men's Get Strong Saturday
DESCRIPTION:Join us for Senior Men’s Get Strong Saturday. This includes a partner workout and a Scripture devotional. Come and join other seasoned men who are looking to stay sharpened\, both in the Word and in the body.
URL:https://getstrongoregon.com/event/senior-mens-get-strong-saturday/2027-01-30/
LOCATION:Strongbow Strength\, 625 N Arrowleaf Trail #106\, Sisters\, Oregon\, 97759
CATEGORIES:Discipleship Groups,Men,Strong Saturday
ATTACH;FMTTYPE=image/jpeg:https://getstrongoregon.com/wp-content/uploads/2026/01/IMG_7270-scaled.jpeg
END:VEVENT
BEGIN:VEVENT
DTSTART;TZID=America/Los_Angeles:20270206T060000
DTEND;TZID=America/Los_Angeles:20270206T070000
DTSTAMP:20260421T105806
CREATED:20241229T220726Z
LAST-MODIFIED:20260117T065424Z
UID:10000496-1801893600-1801897200@getstrongoregon.com
SUMMARY:Strong Saturday Men's Workout
DESCRIPTION:Come for the workout and stay for the fellowship!Pray with the men of Get Strong and then let us partner you up for a great workout while we blast worship music and get after it together for some good old fashioned gym church!Fellowship at Sisters Coffee to follow!Only cost: blood\, sweat and tears!
URL:https://getstrongoregon.com/event/get-strong-partner-workout-2/2027-02-06/
LOCATION:Level 5 CrossFit Sisters\, 625 N Arrowleaf Trail\, Sisters\, OR\, 97759
CATEGORIES:Men,Strong Saturday
ATTACH;FMTTYPE=image/jpeg:https://getstrongoregon.com/wp-content/uploads/2024/12/unnamed-7-scaled.jpg
END:VEVENT
BEGIN:VEVENT
DTSTART;TZID=America/Los_Angeles:20270206T064500
DTEND;TZID=America/Los_Angeles:20270206T074500
DTSTAMP:20260421T105806
CREATED:20250107T224938Z
LAST-MODIFIED:20260117T065318Z
UID:10000235-1801896300-1801899900@getstrongoregon.com
SUMMARY:Strong Saturday Women's Workout
DESCRIPTION:Come for the workout and stay for the fellowship!Pray with the women of Get Strong and then let us partner you up for a great workout while we blast worship music and get after it together for some good old-fashioned gym church! \n\n\n\nOnly cost: blood\, sweat and tears!
URL:https://getstrongoregon.com/event/get-strong-womens-partner-workout/2027-02-06/
LOCATION:Level 5 CrossFit Sisters\, 625 N Arrowleaf Trail\, Sisters\, OR\, 97759
CATEGORIES:Strong Saturday,Women
ATTACH;FMTTYPE=image/jpeg:https://getstrongoregon.com/wp-content/uploads/2025/01/unnamed-6-scaled.jpg
END:VEVENT
BEGIN:VEVENT
DTSTART;TZID=America/Los_Angeles:20270206T070000
DTEND;TZID=America/Los_Angeles:20270206T090000
DTSTAMP:20260421T105806
CREATED:20260112T203117Z
LAST-MODIFIED:20260114T033834Z
UID:10008746-1801897200-1801904400@getstrongoregon.com
SUMMARY:Senior Men's Get Strong Saturday
DESCRIPTION:Join us for Senior Men’s Get Strong Saturday. This includes a partner workout and a Scripture devotional. Come and join other seasoned men who are looking to stay sharpened\, both in the Word and in the body.
URL:https://getstrongoregon.com/event/senior-mens-get-strong-saturday/2027-02-06/
LOCATION:Strongbow Strength\, 625 N Arrowleaf Trail #106\, Sisters\, Oregon\, 97759
CATEGORIES:Discipleship Groups,Men,Strong Saturday
ATTACH;FMTTYPE=image/jpeg:https://getstrongoregon.com/wp-content/uploads/2026/01/IMG_7270-scaled.jpeg
END:VEVENT
BEGIN:VEVENT
DTSTART;TZID=America/Los_Angeles:20270213T060000
DTEND;TZID=America/Los_Angeles:20270213T070000
DTSTAMP:20260421T105806
CREATED:20241229T220726Z
LAST-MODIFIED:20260117T065424Z
UID:10000497-1802498400-1802502000@getstrongoregon.com
SUMMARY:Strong Saturday Men's Workout
DESCRIPTION:Come for the workout and stay for the fellowship!Pray with the men of Get Strong and then let us partner you up for a great workout while we blast worship music and get after it together for some good old fashioned gym church!Fellowship at Sisters Coffee to follow!Only cost: blood\, sweat and tears!
URL:https://getstrongoregon.com/event/get-strong-partner-workout-2/2027-02-13/
LOCATION:Level 5 CrossFit Sisters\, 625 N Arrowleaf Trail\, Sisters\, OR\, 97759
CATEGORIES:Men,Strong Saturday
ATTACH;FMTTYPE=image/jpeg:https://getstrongoregon.com/wp-content/uploads/2024/12/unnamed-7-scaled.jpg
END:VEVENT
BEGIN:VEVENT
DTSTART;TZID=America/Los_Angeles:20270213T064500
DTEND;TZID=America/Los_Angeles:20270213T074500
DTSTAMP:20260421T105806
CREATED:20250107T224938Z
LAST-MODIFIED:20260117T065318Z
UID:10000236-1802501100-1802504700@getstrongoregon.com
SUMMARY:Strong Saturday Women's Workout
DESCRIPTION:Come for the workout and stay for the fellowship!Pray with the women of Get Strong and then let us partner you up for a great workout while we blast worship music and get after it together for some good old-fashioned gym church! \n\n\n\nOnly cost: blood\, sweat and tears!
URL:https://getstrongoregon.com/event/get-strong-womens-partner-workout/2027-02-13/
LOCATION:Level 5 CrossFit Sisters\, 625 N Arrowleaf Trail\, Sisters\, OR\, 97759
CATEGORIES:Strong Saturday,Women
ATTACH;FMTTYPE=image/jpeg:https://getstrongoregon.com/wp-content/uploads/2025/01/unnamed-6-scaled.jpg
END:VEVENT
BEGIN:VEVENT
DTSTART;TZID=America/Los_Angeles:20270213T070000
DTEND;TZID=America/Los_Angeles:20270213T090000
DTSTAMP:20260421T105806
CREATED:20260112T203117Z
LAST-MODIFIED:20260114T033834Z
UID:10008747-1802502000-1802509200@getstrongoregon.com
SUMMARY:Senior Men's Get Strong Saturday
DESCRIPTION:Join us for Senior Men’s Get Strong Saturday. This includes a partner workout and a Scripture devotional. Come and join other seasoned men who are looking to stay sharpened\, both in the Word and in the body.
URL:https://getstrongoregon.com/event/senior-mens-get-strong-saturday/2027-02-13/
LOCATION:Strongbow Strength\, 625 N Arrowleaf Trail #106\, Sisters\, Oregon\, 97759
CATEGORIES:Discipleship Groups,Men,Strong Saturday
ATTACH;FMTTYPE=image/jpeg:https://getstrongoregon.com/wp-content/uploads/2026/01/IMG_7270-scaled.jpeg
END:VEVENT
BEGIN:VEVENT
DTSTART;TZID=America/Los_Angeles:20270220T060000
DTEND;TZID=America/Los_Angeles:20270220T070000
DTSTAMP:20260421T105806
CREATED:20241229T220726Z
LAST-MODIFIED:20260117T065424Z
UID:10000498-1803103200-1803106800@getstrongoregon.com
SUMMARY:Strong Saturday Men's Workout
DESCRIPTION:Come for the workout and stay for the fellowship!Pray with the men of Get Strong and then let us partner you up for a great workout while we blast worship music and get after it together for some good old fashioned gym church!Fellowship at Sisters Coffee to follow!Only cost: blood\, sweat and tears!
URL:https://getstrongoregon.com/event/get-strong-partner-workout-2/2027-02-20/
LOCATION:Level 5 CrossFit Sisters\, 625 N Arrowleaf Trail\, Sisters\, OR\, 97759
CATEGORIES:Men,Strong Saturday
ATTACH;FMTTYPE=image/jpeg:https://getstrongoregon.com/wp-content/uploads/2024/12/unnamed-7-scaled.jpg
END:VEVENT
BEGIN:VEVENT
DTSTART;TZID=America/Los_Angeles:20270220T064500
DTEND;TZID=America/Los_Angeles:20270220T074500
DTSTAMP:20260421T105806
CREATED:20250107T224938Z
LAST-MODIFIED:20260117T065318Z
UID:10000237-1803105900-1803109500@getstrongoregon.com
SUMMARY:Strong Saturday Women's Workout
DESCRIPTION:Come for the workout and stay for the fellowship!Pray with the women of Get Strong and then let us partner you up for a great workout while we blast worship music and get after it together for some good old-fashioned gym church! \n\n\n\nOnly cost: blood\, sweat and tears!
URL:https://getstrongoregon.com/event/get-strong-womens-partner-workout/2027-02-20/
LOCATION:Level 5 CrossFit Sisters\, 625 N Arrowleaf Trail\, Sisters\, OR\, 97759
CATEGORIES:Strong Saturday,Women
ATTACH;FMTTYPE=image/jpeg:https://getstrongoregon.com/wp-content/uploads/2025/01/unnamed-6-scaled.jpg
END:VEVENT
BEGIN:VEVENT
DTSTART;TZID=America/Los_Angeles:20270220T070000
DTEND;TZID=America/Los_Angeles:20270220T090000
DTSTAMP:20260421T105806
CREATED:20260112T203117Z
LAST-MODIFIED:20260114T033834Z
UID:10008748-1803106800-1803114000@getstrongoregon.com
SUMMARY:Senior Men's Get Strong Saturday
DESCRIPTION:Join us for Senior Men’s Get Strong Saturday. This includes a partner workout and a Scripture devotional. Come and join other seasoned men who are looking to stay sharpened\, both in the Word and in the body.
URL:https://getstrongoregon.com/event/senior-mens-get-strong-saturday/2027-02-20/
LOCATION:Strongbow Strength\, 625 N Arrowleaf Trail #106\, Sisters\, Oregon\, 97759
CATEGORIES:Discipleship Groups,Men,Strong Saturday
ATTACH;FMTTYPE=image/jpeg:https://getstrongoregon.com/wp-content/uploads/2026/01/IMG_7270-scaled.jpeg
END:VEVENT
BEGIN:VEVENT
DTSTART;TZID=America/Los_Angeles:20270227T060000
DTEND;TZID=America/Los_Angeles:20270227T070000
DTSTAMP:20260421T105806
CREATED:20241229T220726Z
LAST-MODIFIED:20260117T065424Z
UID:10000499-1803708000-1803711600@getstrongoregon.com
SUMMARY:Strong Saturday Men's Workout
DESCRIPTION:Come for the workout and stay for the fellowship!Pray with the men of Get Strong and then let us partner you up for a great workout while we blast worship music and get after it together for some good old fashioned gym church!Fellowship at Sisters Coffee to follow!Only cost: blood\, sweat and tears!
URL:https://getstrongoregon.com/event/get-strong-partner-workout-2/2027-02-27/
LOCATION:Level 5 CrossFit Sisters\, 625 N Arrowleaf Trail\, Sisters\, OR\, 97759
CATEGORIES:Men,Strong Saturday
ATTACH;FMTTYPE=image/jpeg:https://getstrongoregon.com/wp-content/uploads/2024/12/unnamed-7-scaled.jpg
END:VEVENT
BEGIN:VEVENT
DTSTART;TZID=America/Los_Angeles:20270227T064500
DTEND;TZID=America/Los_Angeles:20270227T074500
DTSTAMP:20260421T105806
CREATED:20250107T224938Z
LAST-MODIFIED:20260117T065318Z
UID:10000238-1803710700-1803714300@getstrongoregon.com
SUMMARY:Strong Saturday Women's Workout
DESCRIPTION:Come for the workout and stay for the fellowship!Pray with the women of Get Strong and then let us partner you up for a great workout while we blast worship music and get after it together for some good old-fashioned gym church! \n\n\n\nOnly cost: blood\, sweat and tears!
URL:https://getstrongoregon.com/event/get-strong-womens-partner-workout/2027-02-27/
LOCATION:Level 5 CrossFit Sisters\, 625 N Arrowleaf Trail\, Sisters\, OR\, 97759
CATEGORIES:Strong Saturday,Women
ATTACH;FMTTYPE=image/jpeg:https://getstrongoregon.com/wp-content/uploads/2025/01/unnamed-6-scaled.jpg
END:VEVENT
BEGIN:VEVENT
DTSTART;TZID=America/Los_Angeles:20270227T070000
DTEND;TZID=America/Los_Angeles:20270227T090000
DTSTAMP:20260421T105806
CREATED:20260112T203117Z
LAST-MODIFIED:20260114T033834Z
UID:10008749-1803711600-1803718800@getstrongoregon.com
SUMMARY:Senior Men's Get Strong Saturday
DESCRIPTION:Join us for Senior Men’s Get Strong Saturday. This includes a partner workout and a Scripture devotional. Come and join other seasoned men who are looking to stay sharpened\, both in the Word and in the body.
URL:https://getstrongoregon.com/event/senior-mens-get-strong-saturday/2027-02-27/
LOCATION:Strongbow Strength\, 625 N Arrowleaf Trail #106\, Sisters\, Oregon\, 97759
CATEGORIES:Discipleship Groups,Men,Strong Saturday
ATTACH;FMTTYPE=image/jpeg:https://getstrongoregon.com/wp-content/uploads/2026/01/IMG_7270-scaled.jpeg
END:VEVENT
BEGIN:VEVENT
DTSTART;TZID=America/Los_Angeles:20270306T060000
DTEND;TZID=America/Los_Angeles:20270306T070000
DTSTAMP:20260421T105806
CREATED:20241229T220726Z
LAST-MODIFIED:20260117T065424Z
UID:10000500-1804312800-1804316400@getstrongoregon.com
SUMMARY:Strong Saturday Men's Workout
DESCRIPTION:Come for the workout and stay for the fellowship!Pray with the men of Get Strong and then let us partner you up for a great workout while we blast worship music and get after it together for some good old fashioned gym church!Fellowship at Sisters Coffee to follow!Only cost: blood\, sweat and tears!
URL:https://getstrongoregon.com/event/get-strong-partner-workout-2/2027-03-06/
LOCATION:Level 5 CrossFit Sisters\, 625 N Arrowleaf Trail\, Sisters\, OR\, 97759
CATEGORIES:Men,Strong Saturday
ATTACH;FMTTYPE=image/jpeg:https://getstrongoregon.com/wp-content/uploads/2024/12/unnamed-7-scaled.jpg
END:VEVENT
BEGIN:VEVENT
DTSTART;TZID=America/Los_Angeles:20270306T064500
DTEND;TZID=America/Los_Angeles:20270306T074500
DTSTAMP:20260421T105806
CREATED:20250107T224938Z
LAST-MODIFIED:20260117T065318Z
UID:10000239-1804315500-1804319100@getstrongoregon.com
SUMMARY:Strong Saturday Women's Workout
DESCRIPTION:Come for the workout and stay for the fellowship!Pray with the women of Get Strong and then let us partner you up for a great workout while we blast worship music and get after it together for some good old-fashioned gym church! \n\n\n\nOnly cost: blood\, sweat and tears!
URL:https://getstrongoregon.com/event/get-strong-womens-partner-workout/2027-03-06/
LOCATION:Level 5 CrossFit Sisters\, 625 N Arrowleaf Trail\, Sisters\, OR\, 97759
CATEGORIES:Strong Saturday,Women
ATTACH;FMTTYPE=image/jpeg:https://getstrongoregon.com/wp-content/uploads/2025/01/unnamed-6-scaled.jpg
END:VEVENT
BEGIN:VEVENT
DTSTART;TZID=America/Los_Angeles:20270306T070000
DTEND;TZID=America/Los_Angeles:20270306T090000
DTSTAMP:20260421T105806
CREATED:20260112T203117Z
LAST-MODIFIED:20260114T033834Z
UID:10008750-1804316400-1804323600@getstrongoregon.com
SUMMARY:Senior Men's Get Strong Saturday
DESCRIPTION:Join us for Senior Men’s Get Strong Saturday. This includes a partner workout and a Scripture devotional. Come and join other seasoned men who are looking to stay sharpened\, both in the Word and in the body.
URL:https://getstrongoregon.com/event/senior-mens-get-strong-saturday/2027-03-06/
LOCATION:Strongbow Strength\, 625 N Arrowleaf Trail #106\, Sisters\, Oregon\, 97759
CATEGORIES:Discipleship Groups,Men,Strong Saturday
ATTACH;FMTTYPE=image/jpeg:https://getstrongoregon.com/wp-content/uploads/2026/01/IMG_7270-scaled.jpeg
END:VEVENT
BEGIN:VEVENT
DTSTART;TZID=America/Los_Angeles:20270313T060000
DTEND;TZID=America/Los_Angeles:20270313T070000
DTSTAMP:20260421T105806
CREATED:20241229T220726Z
LAST-MODIFIED:20260117T065424Z
UID:10000501-1804917600-1804921200@getstrongoregon.com
SUMMARY:Strong Saturday Men's Workout
DESCRIPTION:Come for the workout and stay for the fellowship!Pray with the men of Get Strong and then let us partner you up for a great workout while we blast worship music and get after it together for some good old fashioned gym church!Fellowship at Sisters Coffee to follow!Only cost: blood\, sweat and tears!
URL:https://getstrongoregon.com/event/get-strong-partner-workout-2/2027-03-13/
LOCATION:Level 5 CrossFit Sisters\, 625 N Arrowleaf Trail\, Sisters\, OR\, 97759
CATEGORIES:Men,Strong Saturday
ATTACH;FMTTYPE=image/jpeg:https://getstrongoregon.com/wp-content/uploads/2024/12/unnamed-7-scaled.jpg
END:VEVENT
BEGIN:VEVENT
DTSTART;TZID=America/Los_Angeles:20270313T064500
DTEND;TZID=America/Los_Angeles:20270313T074500
DTSTAMP:20260421T105806
CREATED:20250107T224938Z
LAST-MODIFIED:20260117T065318Z
UID:10000240-1804920300-1804923900@getstrongoregon.com
SUMMARY:Strong Saturday Women's Workout
DESCRIPTION:Come for the workout and stay for the fellowship!Pray with the women of Get Strong and then let us partner you up for a great workout while we blast worship music and get after it together for some good old-fashioned gym church! \n\n\n\nOnly cost: blood\, sweat and tears!
URL:https://getstrongoregon.com/event/get-strong-womens-partner-workout/2027-03-13/
LOCATION:Level 5 CrossFit Sisters\, 625 N Arrowleaf Trail\, Sisters\, OR\, 97759
CATEGORIES:Strong Saturday,Women
ATTACH;FMTTYPE=image/jpeg:https://getstrongoregon.com/wp-content/uploads/2025/01/unnamed-6-scaled.jpg
END:VEVENT
BEGIN:VEVENT
DTSTART;TZID=America/Los_Angeles:20270313T070000
DTEND;TZID=America/Los_Angeles:20270313T090000
DTSTAMP:20260421T105806
CREATED:20260112T203117Z
LAST-MODIFIED:20260114T033834Z
UID:10008751-1804921200-1804928400@getstrongoregon.com
SUMMARY:Senior Men's Get Strong Saturday
DESCRIPTION:Join us for Senior Men’s Get Strong Saturday. This includes a partner workout and a Scripture devotional. Come and join other seasoned men who are looking to stay sharpened\, both in the Word and in the body.
URL:https://getstrongoregon.com/event/senior-mens-get-strong-saturday/2027-03-13/
LOCATION:Strongbow Strength\, 625 N Arrowleaf Trail #106\, Sisters\, Oregon\, 97759
CATEGORIES:Discipleship Groups,Men,Strong Saturday
ATTACH;FMTTYPE=image/jpeg:https://getstrongoregon.com/wp-content/uploads/2026/01/IMG_7270-scaled.jpeg
END:VEVENT
END:VCALENDAR