BEGIN:VCALENDAR
VERSION:2.0
PRODID:-//Get Strong Oregon - ECPv6.15.20//NONSGML v1.0//EN
CALSCALE:GREGORIAN
METHOD:PUBLISH
X-WR-CALNAME:Get Strong Oregon
X-ORIGINAL-URL:https://getstrongoregon.com
X-WR-CALDESC:Events for Get Strong Oregon
REFRESH-INTERVAL;VALUE=DURATION:PT1H
X-Robots-Tag:noindex
X-PUBLISHED-TTL:PT1H
BEGIN:VTIMEZONE
TZID:America/Los_Angeles
BEGIN:DAYLIGHT
TZOFFSETFROM:-0800
TZOFFSETTO:-0700
TZNAME:PDT
DTSTART:20250309T100000
END:DAYLIGHT
BEGIN:STANDARD
TZOFFSETFROM:-0700
TZOFFSETTO:-0800
TZNAME:PST
DTSTART:20251102T090000
END:STANDARD
BEGIN:DAYLIGHT
TZOFFSETFROM:-0800
TZOFFSETTO:-0700
TZNAME:PDT
DTSTART:20260308T100000
END:DAYLIGHT
BEGIN:STANDARD
TZOFFSETFROM:-0700
TZOFFSETTO:-0800
TZNAME:PST
DTSTART:20261101T090000
END:STANDARD
BEGIN:DAYLIGHT
TZOFFSETFROM:-0800
TZOFFSETTO:-0700
TZNAME:PDT
DTSTART:20270314T100000
END:DAYLIGHT
BEGIN:STANDARD
TZOFFSETFROM:-0700
TZOFFSETTO:-0800
TZNAME:PST
DTSTART:20271107T090000
END:STANDARD
END:VTIMEZONE
BEGIN:VEVENT
DTSTART;TZID=America/Los_Angeles:20260423T060000
DTEND;TZID=America/Los_Angeles:20260423T080000
DTSTAMP:20260422T032845
CREATED:20260112T195202Z
LAST-MODIFIED:20260112T202231Z
UID:10004790-1776924000-1776931200@getstrongoregon.com
SUMMARY:Men’s Thursday Morning Discipleship
DESCRIPTION:6am Thursdays – Men’s Discipleship – Cascade Fitness \n\n\n\nen’s Discipleship provides a space for men to grow in faith\, accountability\, and brotherhood. Through Scripture\, conversation\, and shared commitment\, we challenge one another to live with integrity and purpose. This is a place to grow stronger spiritually alongside other men.
URL:https://getstrongoregon.com/event/mens-discipleship-5/2026-04-23/
LOCATION:Cascade Fitness\, 625 N Arrowleaf Trail #101\, Sisters\, Oregon\, 97759
CATEGORIES:Discipleship Groups
ATTACH;FMTTYPE=image/jpeg:https://getstrongoregon.com/wp-content/uploads/2026/01/IMG_0519.jpeg
END:VEVENT
BEGIN:VEVENT
DTSTART;TZID=America/Los_Angeles:20260430T060000
DTEND;TZID=America/Los_Angeles:20260430T080000
DTSTAMP:20260422T032845
CREATED:20260112T195202Z
LAST-MODIFIED:20260112T202231Z
UID:10004791-1777528800-1777536000@getstrongoregon.com
SUMMARY:Men’s Thursday Morning Discipleship
DESCRIPTION:6am Thursdays – Men’s Discipleship – Cascade Fitness \n\n\n\nen’s Discipleship provides a space for men to grow in faith\, accountability\, and brotherhood. Through Scripture\, conversation\, and shared commitment\, we challenge one another to live with integrity and purpose. This is a place to grow stronger spiritually alongside other men.
URL:https://getstrongoregon.com/event/mens-discipleship-5/2026-04-30/
LOCATION:Cascade Fitness\, 625 N Arrowleaf Trail #101\, Sisters\, Oregon\, 97759
CATEGORIES:Discipleship Groups
ATTACH;FMTTYPE=image/jpeg:https://getstrongoregon.com/wp-content/uploads/2026/01/IMG_0519.jpeg
END:VEVENT
BEGIN:VEVENT
DTSTART;TZID=America/Los_Angeles:20260507T060000
DTEND;TZID=America/Los_Angeles:20260507T080000
DTSTAMP:20260422T032845
CREATED:20260112T195202Z
LAST-MODIFIED:20260112T202231Z
UID:10004792-1778133600-1778140800@getstrongoregon.com
SUMMARY:Men’s Thursday Morning Discipleship
DESCRIPTION:6am Thursdays – Men’s Discipleship – Cascade Fitness \n\n\n\nen’s Discipleship provides a space for men to grow in faith\, accountability\, and brotherhood. Through Scripture\, conversation\, and shared commitment\, we challenge one another to live with integrity and purpose. This is a place to grow stronger spiritually alongside other men.
URL:https://getstrongoregon.com/event/mens-discipleship-5/2026-05-07/
LOCATION:Cascade Fitness\, 625 N Arrowleaf Trail #101\, Sisters\, Oregon\, 97759
CATEGORIES:Discipleship Groups
ATTACH;FMTTYPE=image/jpeg:https://getstrongoregon.com/wp-content/uploads/2026/01/IMG_0519.jpeg
END:VEVENT
BEGIN:VEVENT
DTSTART;TZID=America/Los_Angeles:20260514T060000
DTEND;TZID=America/Los_Angeles:20260514T080000
DTSTAMP:20260422T032845
CREATED:20260112T195202Z
LAST-MODIFIED:20260112T202231Z
UID:10004793-1778738400-1778745600@getstrongoregon.com
SUMMARY:Men’s Thursday Morning Discipleship
DESCRIPTION:6am Thursdays – Men’s Discipleship – Cascade Fitness \n\n\n\nen’s Discipleship provides a space for men to grow in faith\, accountability\, and brotherhood. Through Scripture\, conversation\, and shared commitment\, we challenge one another to live with integrity and purpose. This is a place to grow stronger spiritually alongside other men.
URL:https://getstrongoregon.com/event/mens-discipleship-5/2026-05-14/
LOCATION:Cascade Fitness\, 625 N Arrowleaf Trail #101\, Sisters\, Oregon\, 97759
CATEGORIES:Discipleship Groups
ATTACH;FMTTYPE=image/jpeg:https://getstrongoregon.com/wp-content/uploads/2026/01/IMG_0519.jpeg
END:VEVENT
BEGIN:VEVENT
DTSTART;TZID=America/Los_Angeles:20260521T060000
DTEND;TZID=America/Los_Angeles:20260521T080000
DTSTAMP:20260422T032845
CREATED:20260112T195202Z
LAST-MODIFIED:20260112T202231Z
UID:10004794-1779343200-1779350400@getstrongoregon.com
SUMMARY:Men’s Thursday Morning Discipleship
DESCRIPTION:6am Thursdays – Men’s Discipleship – Cascade Fitness \n\n\n\nen’s Discipleship provides a space for men to grow in faith\, accountability\, and brotherhood. Through Scripture\, conversation\, and shared commitment\, we challenge one another to live with integrity and purpose. This is a place to grow stronger spiritually alongside other men.
URL:https://getstrongoregon.com/event/mens-discipleship-5/2026-05-21/
LOCATION:Cascade Fitness\, 625 N Arrowleaf Trail #101\, Sisters\, Oregon\, 97759
CATEGORIES:Discipleship Groups
ATTACH;FMTTYPE=image/jpeg:https://getstrongoregon.com/wp-content/uploads/2026/01/IMG_0519.jpeg
END:VEVENT
BEGIN:VEVENT
DTSTART;TZID=America/Los_Angeles:20260528T060000
DTEND;TZID=America/Los_Angeles:20260528T080000
DTSTAMP:20260422T032845
CREATED:20260112T195202Z
LAST-MODIFIED:20260112T202231Z
UID:10004795-1779948000-1779955200@getstrongoregon.com
SUMMARY:Men’s Thursday Morning Discipleship
DESCRIPTION:6am Thursdays – Men’s Discipleship – Cascade Fitness \n\n\n\nen’s Discipleship provides a space for men to grow in faith\, accountability\, and brotherhood. Through Scripture\, conversation\, and shared commitment\, we challenge one another to live with integrity and purpose. This is a place to grow stronger spiritually alongside other men.
URL:https://getstrongoregon.com/event/mens-discipleship-5/2026-05-28/
LOCATION:Cascade Fitness\, 625 N Arrowleaf Trail #101\, Sisters\, Oregon\, 97759
CATEGORIES:Discipleship Groups
ATTACH;FMTTYPE=image/jpeg:https://getstrongoregon.com/wp-content/uploads/2026/01/IMG_0519.jpeg
END:VEVENT
BEGIN:VEVENT
DTSTART;TZID=America/Los_Angeles:20260604T060000
DTEND;TZID=America/Los_Angeles:20260604T080000
DTSTAMP:20260422T032845
CREATED:20260112T195202Z
LAST-MODIFIED:20260112T202231Z
UID:10004796-1780552800-1780560000@getstrongoregon.com
SUMMARY:Men’s Thursday Morning Discipleship
DESCRIPTION:6am Thursdays – Men’s Discipleship – Cascade Fitness \n\n\n\nen’s Discipleship provides a space for men to grow in faith\, accountability\, and brotherhood. Through Scripture\, conversation\, and shared commitment\, we challenge one another to live with integrity and purpose. This is a place to grow stronger spiritually alongside other men.
URL:https://getstrongoregon.com/event/mens-discipleship-5/2026-06-04/
LOCATION:Cascade Fitness\, 625 N Arrowleaf Trail #101\, Sisters\, Oregon\, 97759
CATEGORIES:Discipleship Groups
ATTACH;FMTTYPE=image/jpeg:https://getstrongoregon.com/wp-content/uploads/2026/01/IMG_0519.jpeg
END:VEVENT
BEGIN:VEVENT
DTSTART;TZID=America/Los_Angeles:20260611T060000
DTEND;TZID=America/Los_Angeles:20260611T080000
DTSTAMP:20260422T032845
CREATED:20260112T195202Z
LAST-MODIFIED:20260112T202231Z
UID:10004797-1781157600-1781164800@getstrongoregon.com
SUMMARY:Men’s Thursday Morning Discipleship
DESCRIPTION:6am Thursdays – Men’s Discipleship – Cascade Fitness \n\n\n\nen’s Discipleship provides a space for men to grow in faith\, accountability\, and brotherhood. Through Scripture\, conversation\, and shared commitment\, we challenge one another to live with integrity and purpose. This is a place to grow stronger spiritually alongside other men.
URL:https://getstrongoregon.com/event/mens-discipleship-5/2026-06-11/
LOCATION:Cascade Fitness\, 625 N Arrowleaf Trail #101\, Sisters\, Oregon\, 97759
CATEGORIES:Discipleship Groups
ATTACH;FMTTYPE=image/jpeg:https://getstrongoregon.com/wp-content/uploads/2026/01/IMG_0519.jpeg
END:VEVENT
BEGIN:VEVENT
DTSTART;TZID=America/Los_Angeles:20260618T060000
DTEND;TZID=America/Los_Angeles:20260618T080000
DTSTAMP:20260422T032845
CREATED:20260112T195202Z
LAST-MODIFIED:20260112T202231Z
UID:10004798-1781762400-1781769600@getstrongoregon.com
SUMMARY:Men’s Thursday Morning Discipleship
DESCRIPTION:6am Thursdays – Men’s Discipleship – Cascade Fitness \n\n\n\nen’s Discipleship provides a space for men to grow in faith\, accountability\, and brotherhood. Through Scripture\, conversation\, and shared commitment\, we challenge one another to live with integrity and purpose. This is a place to grow stronger spiritually alongside other men.
URL:https://getstrongoregon.com/event/mens-discipleship-5/2026-06-18/
LOCATION:Cascade Fitness\, 625 N Arrowleaf Trail #101\, Sisters\, Oregon\, 97759
CATEGORIES:Discipleship Groups
ATTACH;FMTTYPE=image/jpeg:https://getstrongoregon.com/wp-content/uploads/2026/01/IMG_0519.jpeg
END:VEVENT
BEGIN:VEVENT
DTSTART;TZID=America/Los_Angeles:20260625T060000
DTEND;TZID=America/Los_Angeles:20260625T080000
DTSTAMP:20260422T032845
CREATED:20260112T195202Z
LAST-MODIFIED:20260112T202231Z
UID:10004799-1782367200-1782374400@getstrongoregon.com
SUMMARY:Men’s Thursday Morning Discipleship
DESCRIPTION:6am Thursdays – Men’s Discipleship – Cascade Fitness \n\n\n\nen’s Discipleship provides a space for men to grow in faith\, accountability\, and brotherhood. Through Scripture\, conversation\, and shared commitment\, we challenge one another to live with integrity and purpose. This is a place to grow stronger spiritually alongside other men.
URL:https://getstrongoregon.com/event/mens-discipleship-5/2026-06-25/
LOCATION:Cascade Fitness\, 625 N Arrowleaf Trail #101\, Sisters\, Oregon\, 97759
CATEGORIES:Discipleship Groups
ATTACH;FMTTYPE=image/jpeg:https://getstrongoregon.com/wp-content/uploads/2026/01/IMG_0519.jpeg
END:VEVENT
BEGIN:VEVENT
DTSTART;TZID=America/Los_Angeles:20260702T060000
DTEND;TZID=America/Los_Angeles:20260702T080000
DTSTAMP:20260422T032845
CREATED:20260112T195202Z
LAST-MODIFIED:20260112T202231Z
UID:10004800-1782972000-1782979200@getstrongoregon.com
SUMMARY:Men’s Thursday Morning Discipleship
DESCRIPTION:6am Thursdays – Men’s Discipleship – Cascade Fitness \n\n\n\nen’s Discipleship provides a space for men to grow in faith\, accountability\, and brotherhood. Through Scripture\, conversation\, and shared commitment\, we challenge one another to live with integrity and purpose. This is a place to grow stronger spiritually alongside other men.
URL:https://getstrongoregon.com/event/mens-discipleship-5/2026-07-02/
LOCATION:Cascade Fitness\, 625 N Arrowleaf Trail #101\, Sisters\, Oregon\, 97759
CATEGORIES:Discipleship Groups
ATTACH;FMTTYPE=image/jpeg:https://getstrongoregon.com/wp-content/uploads/2026/01/IMG_0519.jpeg
END:VEVENT
BEGIN:VEVENT
DTSTART;TZID=America/Los_Angeles:20260709T060000
DTEND;TZID=America/Los_Angeles:20260709T080000
DTSTAMP:20260422T032845
CREATED:20260112T195202Z
LAST-MODIFIED:20260112T202231Z
UID:10004801-1783576800-1783584000@getstrongoregon.com
SUMMARY:Men’s Thursday Morning Discipleship
DESCRIPTION:6am Thursdays – Men’s Discipleship – Cascade Fitness \n\n\n\nen’s Discipleship provides a space for men to grow in faith\, accountability\, and brotherhood. Through Scripture\, conversation\, and shared commitment\, we challenge one another to live with integrity and purpose. This is a place to grow stronger spiritually alongside other men.
URL:https://getstrongoregon.com/event/mens-discipleship-5/2026-07-09/
LOCATION:Cascade Fitness\, 625 N Arrowleaf Trail #101\, Sisters\, Oregon\, 97759
CATEGORIES:Discipleship Groups
ATTACH;FMTTYPE=image/jpeg:https://getstrongoregon.com/wp-content/uploads/2026/01/IMG_0519.jpeg
END:VEVENT
BEGIN:VEVENT
DTSTART;TZID=America/Los_Angeles:20260716T060000
DTEND;TZID=America/Los_Angeles:20260716T080000
DTSTAMP:20260422T032845
CREATED:20260112T195202Z
LAST-MODIFIED:20260112T202231Z
UID:10004802-1784181600-1784188800@getstrongoregon.com
SUMMARY:Men’s Thursday Morning Discipleship
DESCRIPTION:6am Thursdays – Men’s Discipleship – Cascade Fitness \n\n\n\nen’s Discipleship provides a space for men to grow in faith\, accountability\, and brotherhood. Through Scripture\, conversation\, and shared commitment\, we challenge one another to live with integrity and purpose. This is a place to grow stronger spiritually alongside other men.
URL:https://getstrongoregon.com/event/mens-discipleship-5/2026-07-16/
LOCATION:Cascade Fitness\, 625 N Arrowleaf Trail #101\, Sisters\, Oregon\, 97759
CATEGORIES:Discipleship Groups
ATTACH;FMTTYPE=image/jpeg:https://getstrongoregon.com/wp-content/uploads/2026/01/IMG_0519.jpeg
END:VEVENT
BEGIN:VEVENT
DTSTART;TZID=America/Los_Angeles:20260723T060000
DTEND;TZID=America/Los_Angeles:20260723T080000
DTSTAMP:20260422T032845
CREATED:20260112T195202Z
LAST-MODIFIED:20260112T202231Z
UID:10004803-1784786400-1784793600@getstrongoregon.com
SUMMARY:Men’s Thursday Morning Discipleship
DESCRIPTION:6am Thursdays – Men’s Discipleship – Cascade Fitness \n\n\n\nen’s Discipleship provides a space for men to grow in faith\, accountability\, and brotherhood. Through Scripture\, conversation\, and shared commitment\, we challenge one another to live with integrity and purpose. This is a place to grow stronger spiritually alongside other men.
URL:https://getstrongoregon.com/event/mens-discipleship-5/2026-07-23/
LOCATION:Cascade Fitness\, 625 N Arrowleaf Trail #101\, Sisters\, Oregon\, 97759
CATEGORIES:Discipleship Groups
ATTACH;FMTTYPE=image/jpeg:https://getstrongoregon.com/wp-content/uploads/2026/01/IMG_0519.jpeg
END:VEVENT
BEGIN:VEVENT
DTSTART;TZID=America/Los_Angeles:20260730T060000
DTEND;TZID=America/Los_Angeles:20260730T080000
DTSTAMP:20260422T032845
CREATED:20260112T195202Z
LAST-MODIFIED:20260112T202231Z
UID:10004804-1785391200-1785398400@getstrongoregon.com
SUMMARY:Men’s Thursday Morning Discipleship
DESCRIPTION:6am Thursdays – Men’s Discipleship – Cascade Fitness \n\n\n\nen’s Discipleship provides a space for men to grow in faith\, accountability\, and brotherhood. Through Scripture\, conversation\, and shared commitment\, we challenge one another to live with integrity and purpose. This is a place to grow stronger spiritually alongside other men.
URL:https://getstrongoregon.com/event/mens-discipleship-5/2026-07-30/
LOCATION:Cascade Fitness\, 625 N Arrowleaf Trail #101\, Sisters\, Oregon\, 97759
CATEGORIES:Discipleship Groups
ATTACH;FMTTYPE=image/jpeg:https://getstrongoregon.com/wp-content/uploads/2026/01/IMG_0519.jpeg
END:VEVENT
BEGIN:VEVENT
DTSTART;TZID=America/Los_Angeles:20260806T060000
DTEND;TZID=America/Los_Angeles:20260806T080000
DTSTAMP:20260422T032845
CREATED:20260112T195202Z
LAST-MODIFIED:20260112T202231Z
UID:10004805-1785996000-1786003200@getstrongoregon.com
SUMMARY:Men’s Thursday Morning Discipleship
DESCRIPTION:6am Thursdays – Men’s Discipleship – Cascade Fitness \n\n\n\nen’s Discipleship provides a space for men to grow in faith\, accountability\, and brotherhood. Through Scripture\, conversation\, and shared commitment\, we challenge one another to live with integrity and purpose. This is a place to grow stronger spiritually alongside other men.
URL:https://getstrongoregon.com/event/mens-discipleship-5/2026-08-06/
LOCATION:Cascade Fitness\, 625 N Arrowleaf Trail #101\, Sisters\, Oregon\, 97759
CATEGORIES:Discipleship Groups
ATTACH;FMTTYPE=image/jpeg:https://getstrongoregon.com/wp-content/uploads/2026/01/IMG_0519.jpeg
END:VEVENT
BEGIN:VEVENT
DTSTART;TZID=America/Los_Angeles:20260813T060000
DTEND;TZID=America/Los_Angeles:20260813T080000
DTSTAMP:20260422T032845
CREATED:20260112T195202Z
LAST-MODIFIED:20260112T202231Z
UID:10004806-1786600800-1786608000@getstrongoregon.com
SUMMARY:Men’s Thursday Morning Discipleship
DESCRIPTION:6am Thursdays – Men’s Discipleship – Cascade Fitness \n\n\n\nen’s Discipleship provides a space for men to grow in faith\, accountability\, and brotherhood. Through Scripture\, conversation\, and shared commitment\, we challenge one another to live with integrity and purpose. This is a place to grow stronger spiritually alongside other men.
URL:https://getstrongoregon.com/event/mens-discipleship-5/2026-08-13/
LOCATION:Cascade Fitness\, 625 N Arrowleaf Trail #101\, Sisters\, Oregon\, 97759
CATEGORIES:Discipleship Groups
ATTACH;FMTTYPE=image/jpeg:https://getstrongoregon.com/wp-content/uploads/2026/01/IMG_0519.jpeg
END:VEVENT
BEGIN:VEVENT
DTSTART;TZID=America/Los_Angeles:20260820T060000
DTEND;TZID=America/Los_Angeles:20260820T080000
DTSTAMP:20260422T032845
CREATED:20260112T195202Z
LAST-MODIFIED:20260112T202231Z
UID:10004807-1787205600-1787212800@getstrongoregon.com
SUMMARY:Men’s Thursday Morning Discipleship
DESCRIPTION:6am Thursdays – Men’s Discipleship – Cascade Fitness \n\n\n\nen’s Discipleship provides a space for men to grow in faith\, accountability\, and brotherhood. Through Scripture\, conversation\, and shared commitment\, we challenge one another to live with integrity and purpose. This is a place to grow stronger spiritually alongside other men.
URL:https://getstrongoregon.com/event/mens-discipleship-5/2026-08-20/
LOCATION:Cascade Fitness\, 625 N Arrowleaf Trail #101\, Sisters\, Oregon\, 97759
CATEGORIES:Discipleship Groups
ATTACH;FMTTYPE=image/jpeg:https://getstrongoregon.com/wp-content/uploads/2026/01/IMG_0519.jpeg
END:VEVENT
BEGIN:VEVENT
DTSTART;TZID=America/Los_Angeles:20260827T060000
DTEND;TZID=America/Los_Angeles:20260827T080000
DTSTAMP:20260422T032845
CREATED:20260112T195202Z
LAST-MODIFIED:20260112T202231Z
UID:10004808-1787810400-1787817600@getstrongoregon.com
SUMMARY:Men’s Thursday Morning Discipleship
DESCRIPTION:6am Thursdays – Men’s Discipleship – Cascade Fitness \n\n\n\nen’s Discipleship provides a space for men to grow in faith\, accountability\, and brotherhood. Through Scripture\, conversation\, and shared commitment\, we challenge one another to live with integrity and purpose. This is a place to grow stronger spiritually alongside other men.
URL:https://getstrongoregon.com/event/mens-discipleship-5/2026-08-27/
LOCATION:Cascade Fitness\, 625 N Arrowleaf Trail #101\, Sisters\, Oregon\, 97759
CATEGORIES:Discipleship Groups
ATTACH;FMTTYPE=image/jpeg:https://getstrongoregon.com/wp-content/uploads/2026/01/IMG_0519.jpeg
END:VEVENT
BEGIN:VEVENT
DTSTART;TZID=America/Los_Angeles:20260903T060000
DTEND;TZID=America/Los_Angeles:20260903T080000
DTSTAMP:20260422T032845
CREATED:20260112T195202Z
LAST-MODIFIED:20260112T202231Z
UID:10004809-1788415200-1788422400@getstrongoregon.com
SUMMARY:Men’s Thursday Morning Discipleship
DESCRIPTION:6am Thursdays – Men’s Discipleship – Cascade Fitness \n\n\n\nen’s Discipleship provides a space for men to grow in faith\, accountability\, and brotherhood. Through Scripture\, conversation\, and shared commitment\, we challenge one another to live with integrity and purpose. This is a place to grow stronger spiritually alongside other men.
URL:https://getstrongoregon.com/event/mens-discipleship-5/2026-09-03/
LOCATION:Cascade Fitness\, 625 N Arrowleaf Trail #101\, Sisters\, Oregon\, 97759
CATEGORIES:Discipleship Groups
ATTACH;FMTTYPE=image/jpeg:https://getstrongoregon.com/wp-content/uploads/2026/01/IMG_0519.jpeg
END:VEVENT
BEGIN:VEVENT
DTSTART;TZID=America/Los_Angeles:20260910T060000
DTEND;TZID=America/Los_Angeles:20260910T080000
DTSTAMP:20260422T032845
CREATED:20260112T195202Z
LAST-MODIFIED:20260112T202231Z
UID:10004810-1789020000-1789027200@getstrongoregon.com
SUMMARY:Men’s Thursday Morning Discipleship
DESCRIPTION:6am Thursdays – Men’s Discipleship – Cascade Fitness \n\n\n\nen’s Discipleship provides a space for men to grow in faith\, accountability\, and brotherhood. Through Scripture\, conversation\, and shared commitment\, we challenge one another to live with integrity and purpose. This is a place to grow stronger spiritually alongside other men.
URL:https://getstrongoregon.com/event/mens-discipleship-5/2026-09-10/
LOCATION:Cascade Fitness\, 625 N Arrowleaf Trail #101\, Sisters\, Oregon\, 97759
CATEGORIES:Discipleship Groups
ATTACH;FMTTYPE=image/jpeg:https://getstrongoregon.com/wp-content/uploads/2026/01/IMG_0519.jpeg
END:VEVENT
BEGIN:VEVENT
DTSTART;TZID=America/Los_Angeles:20260917T060000
DTEND;TZID=America/Los_Angeles:20260917T080000
DTSTAMP:20260422T032845
CREATED:20260112T195202Z
LAST-MODIFIED:20260112T202231Z
UID:10004811-1789624800-1789632000@getstrongoregon.com
SUMMARY:Men’s Thursday Morning Discipleship
DESCRIPTION:6am Thursdays – Men’s Discipleship – Cascade Fitness \n\n\n\nen’s Discipleship provides a space for men to grow in faith\, accountability\, and brotherhood. Through Scripture\, conversation\, and shared commitment\, we challenge one another to live with integrity and purpose. This is a place to grow stronger spiritually alongside other men.
URL:https://getstrongoregon.com/event/mens-discipleship-5/2026-09-17/
LOCATION:Cascade Fitness\, 625 N Arrowleaf Trail #101\, Sisters\, Oregon\, 97759
CATEGORIES:Discipleship Groups
ATTACH;FMTTYPE=image/jpeg:https://getstrongoregon.com/wp-content/uploads/2026/01/IMG_0519.jpeg
END:VEVENT
BEGIN:VEVENT
DTSTART;TZID=America/Los_Angeles:20260924T060000
DTEND;TZID=America/Los_Angeles:20260924T080000
DTSTAMP:20260422T032845
CREATED:20260112T195202Z
LAST-MODIFIED:20260112T202231Z
UID:10004812-1790229600-1790236800@getstrongoregon.com
SUMMARY:Men’s Thursday Morning Discipleship
DESCRIPTION:6am Thursdays – Men’s Discipleship – Cascade Fitness \n\n\n\nen’s Discipleship provides a space for men to grow in faith\, accountability\, and brotherhood. Through Scripture\, conversation\, and shared commitment\, we challenge one another to live with integrity and purpose. This is a place to grow stronger spiritually alongside other men.
URL:https://getstrongoregon.com/event/mens-discipleship-5/2026-09-24/
LOCATION:Cascade Fitness\, 625 N Arrowleaf Trail #101\, Sisters\, Oregon\, 97759
CATEGORIES:Discipleship Groups
ATTACH;FMTTYPE=image/jpeg:https://getstrongoregon.com/wp-content/uploads/2026/01/IMG_0519.jpeg
END:VEVENT
BEGIN:VEVENT
DTSTART;TZID=America/Los_Angeles:20261001T060000
DTEND;TZID=America/Los_Angeles:20261001T080000
DTSTAMP:20260422T032845
CREATED:20260112T195202Z
LAST-MODIFIED:20260112T202231Z
UID:10004813-1790834400-1790841600@getstrongoregon.com
SUMMARY:Men’s Thursday Morning Discipleship
DESCRIPTION:6am Thursdays – Men’s Discipleship – Cascade Fitness \n\n\n\nen’s Discipleship provides a space for men to grow in faith\, accountability\, and brotherhood. Through Scripture\, conversation\, and shared commitment\, we challenge one another to live with integrity and purpose. This is a place to grow stronger spiritually alongside other men.
URL:https://getstrongoregon.com/event/mens-discipleship-5/2026-10-01/
LOCATION:Cascade Fitness\, 625 N Arrowleaf Trail #101\, Sisters\, Oregon\, 97759
CATEGORIES:Discipleship Groups
ATTACH;FMTTYPE=image/jpeg:https://getstrongoregon.com/wp-content/uploads/2026/01/IMG_0519.jpeg
END:VEVENT
BEGIN:VEVENT
DTSTART;TZID=America/Los_Angeles:20261008T060000
DTEND;TZID=America/Los_Angeles:20261008T080000
DTSTAMP:20260422T032845
CREATED:20260112T195202Z
LAST-MODIFIED:20260112T202231Z
UID:10004814-1791439200-1791446400@getstrongoregon.com
SUMMARY:Men’s Thursday Morning Discipleship
DESCRIPTION:6am Thursdays – Men’s Discipleship – Cascade Fitness \n\n\n\nen’s Discipleship provides a space for men to grow in faith\, accountability\, and brotherhood. Through Scripture\, conversation\, and shared commitment\, we challenge one another to live with integrity and purpose. This is a place to grow stronger spiritually alongside other men.
URL:https://getstrongoregon.com/event/mens-discipleship-5/2026-10-08/
LOCATION:Cascade Fitness\, 625 N Arrowleaf Trail #101\, Sisters\, Oregon\, 97759
CATEGORIES:Discipleship Groups
ATTACH;FMTTYPE=image/jpeg:https://getstrongoregon.com/wp-content/uploads/2026/01/IMG_0519.jpeg
END:VEVENT
BEGIN:VEVENT
DTSTART;TZID=America/Los_Angeles:20261015T060000
DTEND;TZID=America/Los_Angeles:20261015T080000
DTSTAMP:20260422T032845
CREATED:20260112T195202Z
LAST-MODIFIED:20260112T202231Z
UID:10004815-1792044000-1792051200@getstrongoregon.com
SUMMARY:Men’s Thursday Morning Discipleship
DESCRIPTION:6am Thursdays – Men’s Discipleship – Cascade Fitness \n\n\n\nen’s Discipleship provides a space for men to grow in faith\, accountability\, and brotherhood. Through Scripture\, conversation\, and shared commitment\, we challenge one another to live with integrity and purpose. This is a place to grow stronger spiritually alongside other men.
URL:https://getstrongoregon.com/event/mens-discipleship-5/2026-10-15/
LOCATION:Cascade Fitness\, 625 N Arrowleaf Trail #101\, Sisters\, Oregon\, 97759
CATEGORIES:Discipleship Groups
ATTACH;FMTTYPE=image/jpeg:https://getstrongoregon.com/wp-content/uploads/2026/01/IMG_0519.jpeg
END:VEVENT
BEGIN:VEVENT
DTSTART;TZID=America/Los_Angeles:20261022T060000
DTEND;TZID=America/Los_Angeles:20261022T080000
DTSTAMP:20260422T032845
CREATED:20260112T195202Z
LAST-MODIFIED:20260112T202231Z
UID:10004816-1792648800-1792656000@getstrongoregon.com
SUMMARY:Men’s Thursday Morning Discipleship
DESCRIPTION:6am Thursdays – Men’s Discipleship – Cascade Fitness \n\n\n\nen’s Discipleship provides a space for men to grow in faith\, accountability\, and brotherhood. Through Scripture\, conversation\, and shared commitment\, we challenge one another to live with integrity and purpose. This is a place to grow stronger spiritually alongside other men.
URL:https://getstrongoregon.com/event/mens-discipleship-5/2026-10-22/
LOCATION:Cascade Fitness\, 625 N Arrowleaf Trail #101\, Sisters\, Oregon\, 97759
CATEGORIES:Discipleship Groups
ATTACH;FMTTYPE=image/jpeg:https://getstrongoregon.com/wp-content/uploads/2026/01/IMG_0519.jpeg
END:VEVENT
BEGIN:VEVENT
DTSTART;TZID=America/Los_Angeles:20261029T060000
DTEND;TZID=America/Los_Angeles:20261029T080000
DTSTAMP:20260422T032845
CREATED:20260112T195202Z
LAST-MODIFIED:20260112T202231Z
UID:10004817-1793253600-1793260800@getstrongoregon.com
SUMMARY:Men’s Thursday Morning Discipleship
DESCRIPTION:6am Thursdays – Men’s Discipleship – Cascade Fitness \n\n\n\nen’s Discipleship provides a space for men to grow in faith\, accountability\, and brotherhood. Through Scripture\, conversation\, and shared commitment\, we challenge one another to live with integrity and purpose. This is a place to grow stronger spiritually alongside other men.
URL:https://getstrongoregon.com/event/mens-discipleship-5/2026-10-29/
LOCATION:Cascade Fitness\, 625 N Arrowleaf Trail #101\, Sisters\, Oregon\, 97759
CATEGORIES:Discipleship Groups
ATTACH;FMTTYPE=image/jpeg:https://getstrongoregon.com/wp-content/uploads/2026/01/IMG_0519.jpeg
END:VEVENT
BEGIN:VEVENT
DTSTART;TZID=America/Los_Angeles:20261105T060000
DTEND;TZID=America/Los_Angeles:20261105T080000
DTSTAMP:20260422T032845
CREATED:20260112T195202Z
LAST-MODIFIED:20260112T202231Z
UID:10004818-1793858400-1793865600@getstrongoregon.com
SUMMARY:Men’s Thursday Morning Discipleship
DESCRIPTION:6am Thursdays – Men’s Discipleship – Cascade Fitness \n\n\n\nen’s Discipleship provides a space for men to grow in faith\, accountability\, and brotherhood. Through Scripture\, conversation\, and shared commitment\, we challenge one another to live with integrity and purpose. This is a place to grow stronger spiritually alongside other men.
URL:https://getstrongoregon.com/event/mens-discipleship-5/2026-11-05/
LOCATION:Cascade Fitness\, 625 N Arrowleaf Trail #101\, Sisters\, Oregon\, 97759
CATEGORIES:Discipleship Groups
ATTACH;FMTTYPE=image/jpeg:https://getstrongoregon.com/wp-content/uploads/2026/01/IMG_0519.jpeg
END:VEVENT
BEGIN:VEVENT
DTSTART;TZID=America/Los_Angeles:20261112T060000
DTEND;TZID=America/Los_Angeles:20261112T080000
DTSTAMP:20260422T032845
CREATED:20260112T195202Z
LAST-MODIFIED:20260112T202231Z
UID:10004819-1794463200-1794470400@getstrongoregon.com
SUMMARY:Men’s Thursday Morning Discipleship
DESCRIPTION:6am Thursdays – Men’s Discipleship – Cascade Fitness \n\n\n\nen’s Discipleship provides a space for men to grow in faith\, accountability\, and brotherhood. Through Scripture\, conversation\, and shared commitment\, we challenge one another to live with integrity and purpose. This is a place to grow stronger spiritually alongside other men.
URL:https://getstrongoregon.com/event/mens-discipleship-5/2026-11-12/
LOCATION:Cascade Fitness\, 625 N Arrowleaf Trail #101\, Sisters\, Oregon\, 97759
CATEGORIES:Discipleship Groups
ATTACH;FMTTYPE=image/jpeg:https://getstrongoregon.com/wp-content/uploads/2026/01/IMG_0519.jpeg
END:VEVENT
END:VCALENDAR