BEGIN:VCALENDAR
VERSION:2.0
PRODID:-//Get Strong Oregon - ECPv6.15.20//NONSGML v1.0//EN
CALSCALE:GREGORIAN
METHOD:PUBLISH
X-WR-CALNAME:Get Strong Oregon
X-ORIGINAL-URL:https://getstrongoregon.com
X-WR-CALDESC:Events for Get Strong Oregon
REFRESH-INTERVAL;VALUE=DURATION:PT1H
X-Robots-Tag:noindex
X-PUBLISHED-TTL:PT1H
BEGIN:VTIMEZONE
TZID:America/Los_Angeles
BEGIN:DAYLIGHT
TZOFFSETFROM:-0800
TZOFFSETTO:-0700
TZNAME:PDT
DTSTART:20250309T100000
END:DAYLIGHT
BEGIN:STANDARD
TZOFFSETFROM:-0700
TZOFFSETTO:-0800
TZNAME:PST
DTSTART:20251102T090000
END:STANDARD
BEGIN:DAYLIGHT
TZOFFSETFROM:-0800
TZOFFSETTO:-0700
TZNAME:PDT
DTSTART:20260308T100000
END:DAYLIGHT
BEGIN:STANDARD
TZOFFSETFROM:-0700
TZOFFSETTO:-0800
TZNAME:PST
DTSTART:20261101T090000
END:STANDARD
BEGIN:DAYLIGHT
TZOFFSETFROM:-0800
TZOFFSETTO:-0700
TZNAME:PDT
DTSTART:20270314T100000
END:DAYLIGHT
BEGIN:STANDARD
TZOFFSETFROM:-0700
TZOFFSETTO:-0800
TZNAME:PST
DTSTART:20271107T090000
END:STANDARD
END:VTIMEZONE
BEGIN:VEVENT
DTSTART;TZID=America/Los_Angeles:20260502T070000
DTEND;TZID=America/Los_Angeles:20260502T090000
DTSTAMP:20260425T091805
CREATED:20260112T200354Z
LAST-MODIFIED:20260112T202400Z
UID:10007140-1777705200-1777712400@getstrongoregon.com
SUMMARY:Men’s Saturday Morning Discipleship
DESCRIPTION:7am Saturdays – Men’s Discipleship – Cascade Fitness \n\n\n\nMen’s Discipleship provides a space for men to grow in faith\, accountability\, and brotherhood. Through Scripture\, conversation\, and shared commitment\, we challenge one another to live with integrity and purpose. This is a place to grow stronger spiritually alongside other men.
URL:https://getstrongoregon.com/event/mens-discipleship-9/2026-05-02/
LOCATION:Cascade Fitness\, 625 N Arrowleaf Trail #101\, Sisters\, Oregon\, 97759
CATEGORIES:Discipleship Groups
ATTACH;FMTTYPE=image/jpeg:https://getstrongoregon.com/wp-content/uploads/2026/01/IMG_0519.jpeg
END:VEVENT
BEGIN:VEVENT
DTSTART;TZID=America/Los_Angeles:20260509T070000
DTEND;TZID=America/Los_Angeles:20260509T090000
DTSTAMP:20260425T091805
CREATED:20260112T200354Z
LAST-MODIFIED:20260112T202400Z
UID:10007141-1778310000-1778317200@getstrongoregon.com
SUMMARY:Men’s Saturday Morning Discipleship
DESCRIPTION:7am Saturdays – Men’s Discipleship – Cascade Fitness \n\n\n\nMen’s Discipleship provides a space for men to grow in faith\, accountability\, and brotherhood. Through Scripture\, conversation\, and shared commitment\, we challenge one another to live with integrity and purpose. This is a place to grow stronger spiritually alongside other men.
URL:https://getstrongoregon.com/event/mens-discipleship-9/2026-05-09/
LOCATION:Cascade Fitness\, 625 N Arrowleaf Trail #101\, Sisters\, Oregon\, 97759
CATEGORIES:Discipleship Groups
ATTACH;FMTTYPE=image/jpeg:https://getstrongoregon.com/wp-content/uploads/2026/01/IMG_0519.jpeg
END:VEVENT
BEGIN:VEVENT
DTSTART;TZID=America/Los_Angeles:20260516T070000
DTEND;TZID=America/Los_Angeles:20260516T090000
DTSTAMP:20260425T091805
CREATED:20260112T200354Z
LAST-MODIFIED:20260112T202400Z
UID:10007142-1778914800-1778922000@getstrongoregon.com
SUMMARY:Men’s Saturday Morning Discipleship
DESCRIPTION:7am Saturdays – Men’s Discipleship – Cascade Fitness \n\n\n\nMen’s Discipleship provides a space for men to grow in faith\, accountability\, and brotherhood. Through Scripture\, conversation\, and shared commitment\, we challenge one another to live with integrity and purpose. This is a place to grow stronger spiritually alongside other men.
URL:https://getstrongoregon.com/event/mens-discipleship-9/2026-05-16/
LOCATION:Cascade Fitness\, 625 N Arrowleaf Trail #101\, Sisters\, Oregon\, 97759
CATEGORIES:Discipleship Groups
ATTACH;FMTTYPE=image/jpeg:https://getstrongoregon.com/wp-content/uploads/2026/01/IMG_0519.jpeg
END:VEVENT
BEGIN:VEVENT
DTSTART;TZID=America/Los_Angeles:20260523T070000
DTEND;TZID=America/Los_Angeles:20260523T090000
DTSTAMP:20260425T091805
CREATED:20260112T200354Z
LAST-MODIFIED:20260112T202400Z
UID:10007143-1779519600-1779526800@getstrongoregon.com
SUMMARY:Men’s Saturday Morning Discipleship
DESCRIPTION:7am Saturdays – Men’s Discipleship – Cascade Fitness \n\n\n\nMen’s Discipleship provides a space for men to grow in faith\, accountability\, and brotherhood. Through Scripture\, conversation\, and shared commitment\, we challenge one another to live with integrity and purpose. This is a place to grow stronger spiritually alongside other men.
URL:https://getstrongoregon.com/event/mens-discipleship-9/2026-05-23/
LOCATION:Cascade Fitness\, 625 N Arrowleaf Trail #101\, Sisters\, Oregon\, 97759
CATEGORIES:Discipleship Groups
ATTACH;FMTTYPE=image/jpeg:https://getstrongoregon.com/wp-content/uploads/2026/01/IMG_0519.jpeg
END:VEVENT
BEGIN:VEVENT
DTSTART;TZID=America/Los_Angeles:20260530T070000
DTEND;TZID=America/Los_Angeles:20260530T090000
DTSTAMP:20260425T091805
CREATED:20260112T200354Z
LAST-MODIFIED:20260112T202400Z
UID:10007144-1780124400-1780131600@getstrongoregon.com
SUMMARY:Men’s Saturday Morning Discipleship
DESCRIPTION:7am Saturdays – Men’s Discipleship – Cascade Fitness \n\n\n\nMen’s Discipleship provides a space for men to grow in faith\, accountability\, and brotherhood. Through Scripture\, conversation\, and shared commitment\, we challenge one another to live with integrity and purpose. This is a place to grow stronger spiritually alongside other men.
URL:https://getstrongoregon.com/event/mens-discipleship-9/2026-05-30/
LOCATION:Cascade Fitness\, 625 N Arrowleaf Trail #101\, Sisters\, Oregon\, 97759
CATEGORIES:Discipleship Groups
ATTACH;FMTTYPE=image/jpeg:https://getstrongoregon.com/wp-content/uploads/2026/01/IMG_0519.jpeg
END:VEVENT
BEGIN:VEVENT
DTSTART;TZID=America/Los_Angeles:20260606T070000
DTEND;TZID=America/Los_Angeles:20260606T090000
DTSTAMP:20260425T091805
CREATED:20260112T200354Z
LAST-MODIFIED:20260112T202400Z
UID:10007145-1780729200-1780736400@getstrongoregon.com
SUMMARY:Men’s Saturday Morning Discipleship
DESCRIPTION:7am Saturdays – Men’s Discipleship – Cascade Fitness \n\n\n\nMen’s Discipleship provides a space for men to grow in faith\, accountability\, and brotherhood. Through Scripture\, conversation\, and shared commitment\, we challenge one another to live with integrity and purpose. This is a place to grow stronger spiritually alongside other men.
URL:https://getstrongoregon.com/event/mens-discipleship-9/2026-06-06/
LOCATION:Cascade Fitness\, 625 N Arrowleaf Trail #101\, Sisters\, Oregon\, 97759
CATEGORIES:Discipleship Groups
ATTACH;FMTTYPE=image/jpeg:https://getstrongoregon.com/wp-content/uploads/2026/01/IMG_0519.jpeg
END:VEVENT
BEGIN:VEVENT
DTSTART;TZID=America/Los_Angeles:20260613T070000
DTEND;TZID=America/Los_Angeles:20260613T090000
DTSTAMP:20260425T091805
CREATED:20260112T200354Z
LAST-MODIFIED:20260112T202400Z
UID:10007146-1781334000-1781341200@getstrongoregon.com
SUMMARY:Men’s Saturday Morning Discipleship
DESCRIPTION:7am Saturdays – Men’s Discipleship – Cascade Fitness \n\n\n\nMen’s Discipleship provides a space for men to grow in faith\, accountability\, and brotherhood. Through Scripture\, conversation\, and shared commitment\, we challenge one another to live with integrity and purpose. This is a place to grow stronger spiritually alongside other men.
URL:https://getstrongoregon.com/event/mens-discipleship-9/2026-06-13/
LOCATION:Cascade Fitness\, 625 N Arrowleaf Trail #101\, Sisters\, Oregon\, 97759
CATEGORIES:Discipleship Groups
ATTACH;FMTTYPE=image/jpeg:https://getstrongoregon.com/wp-content/uploads/2026/01/IMG_0519.jpeg
END:VEVENT
BEGIN:VEVENT
DTSTART;TZID=America/Los_Angeles:20260620T070000
DTEND;TZID=America/Los_Angeles:20260620T090000
DTSTAMP:20260425T091805
CREATED:20260112T200354Z
LAST-MODIFIED:20260112T202400Z
UID:10007147-1781938800-1781946000@getstrongoregon.com
SUMMARY:Men’s Saturday Morning Discipleship
DESCRIPTION:7am Saturdays – Men’s Discipleship – Cascade Fitness \n\n\n\nMen’s Discipleship provides a space for men to grow in faith\, accountability\, and brotherhood. Through Scripture\, conversation\, and shared commitment\, we challenge one another to live with integrity and purpose. This is a place to grow stronger spiritually alongside other men.
URL:https://getstrongoregon.com/event/mens-discipleship-9/2026-06-20/
LOCATION:Cascade Fitness\, 625 N Arrowleaf Trail #101\, Sisters\, Oregon\, 97759
CATEGORIES:Discipleship Groups
ATTACH;FMTTYPE=image/jpeg:https://getstrongoregon.com/wp-content/uploads/2026/01/IMG_0519.jpeg
END:VEVENT
BEGIN:VEVENT
DTSTART;TZID=America/Los_Angeles:20260627T070000
DTEND;TZID=America/Los_Angeles:20260627T090000
DTSTAMP:20260425T091805
CREATED:20260112T200354Z
LAST-MODIFIED:20260112T202400Z
UID:10007148-1782543600-1782550800@getstrongoregon.com
SUMMARY:Men’s Saturday Morning Discipleship
DESCRIPTION:7am Saturdays – Men’s Discipleship – Cascade Fitness \n\n\n\nMen’s Discipleship provides a space for men to grow in faith\, accountability\, and brotherhood. Through Scripture\, conversation\, and shared commitment\, we challenge one another to live with integrity and purpose. This is a place to grow stronger spiritually alongside other men.
URL:https://getstrongoregon.com/event/mens-discipleship-9/2026-06-27/
LOCATION:Cascade Fitness\, 625 N Arrowleaf Trail #101\, Sisters\, Oregon\, 97759
CATEGORIES:Discipleship Groups
ATTACH;FMTTYPE=image/jpeg:https://getstrongoregon.com/wp-content/uploads/2026/01/IMG_0519.jpeg
END:VEVENT
BEGIN:VEVENT
DTSTART;TZID=America/Los_Angeles:20260704T070000
DTEND;TZID=America/Los_Angeles:20260704T090000
DTSTAMP:20260425T091805
CREATED:20260112T200354Z
LAST-MODIFIED:20260112T202400Z
UID:10007149-1783148400-1783155600@getstrongoregon.com
SUMMARY:Men’s Saturday Morning Discipleship
DESCRIPTION:7am Saturdays – Men’s Discipleship – Cascade Fitness \n\n\n\nMen’s Discipleship provides a space for men to grow in faith\, accountability\, and brotherhood. Through Scripture\, conversation\, and shared commitment\, we challenge one another to live with integrity and purpose. This is a place to grow stronger spiritually alongside other men.
URL:https://getstrongoregon.com/event/mens-discipleship-9/2026-07-04/
LOCATION:Cascade Fitness\, 625 N Arrowleaf Trail #101\, Sisters\, Oregon\, 97759
CATEGORIES:Discipleship Groups
ATTACH;FMTTYPE=image/jpeg:https://getstrongoregon.com/wp-content/uploads/2026/01/IMG_0519.jpeg
END:VEVENT
BEGIN:VEVENT
DTSTART;TZID=America/Los_Angeles:20260711T070000
DTEND;TZID=America/Los_Angeles:20260711T090000
DTSTAMP:20260425T091805
CREATED:20260112T200354Z
LAST-MODIFIED:20260112T202400Z
UID:10007150-1783753200-1783760400@getstrongoregon.com
SUMMARY:Men’s Saturday Morning Discipleship
DESCRIPTION:7am Saturdays – Men’s Discipleship – Cascade Fitness \n\n\n\nMen’s Discipleship provides a space for men to grow in faith\, accountability\, and brotherhood. Through Scripture\, conversation\, and shared commitment\, we challenge one another to live with integrity and purpose. This is a place to grow stronger spiritually alongside other men.
URL:https://getstrongoregon.com/event/mens-discipleship-9/2026-07-11/
LOCATION:Cascade Fitness\, 625 N Arrowleaf Trail #101\, Sisters\, Oregon\, 97759
CATEGORIES:Discipleship Groups
ATTACH;FMTTYPE=image/jpeg:https://getstrongoregon.com/wp-content/uploads/2026/01/IMG_0519.jpeg
END:VEVENT
BEGIN:VEVENT
DTSTART;TZID=America/Los_Angeles:20260718T070000
DTEND;TZID=America/Los_Angeles:20260718T090000
DTSTAMP:20260425T091805
CREATED:20260112T200354Z
LAST-MODIFIED:20260112T202400Z
UID:10007151-1784358000-1784365200@getstrongoregon.com
SUMMARY:Men’s Saturday Morning Discipleship
DESCRIPTION:7am Saturdays – Men’s Discipleship – Cascade Fitness \n\n\n\nMen’s Discipleship provides a space for men to grow in faith\, accountability\, and brotherhood. Through Scripture\, conversation\, and shared commitment\, we challenge one another to live with integrity and purpose. This is a place to grow stronger spiritually alongside other men.
URL:https://getstrongoregon.com/event/mens-discipleship-9/2026-07-18/
LOCATION:Cascade Fitness\, 625 N Arrowleaf Trail #101\, Sisters\, Oregon\, 97759
CATEGORIES:Discipleship Groups
ATTACH;FMTTYPE=image/jpeg:https://getstrongoregon.com/wp-content/uploads/2026/01/IMG_0519.jpeg
END:VEVENT
BEGIN:VEVENT
DTSTART;TZID=America/Los_Angeles:20260725T070000
DTEND;TZID=America/Los_Angeles:20260725T090000
DTSTAMP:20260425T091805
CREATED:20260112T200354Z
LAST-MODIFIED:20260112T202400Z
UID:10007152-1784962800-1784970000@getstrongoregon.com
SUMMARY:Men’s Saturday Morning Discipleship
DESCRIPTION:7am Saturdays – Men’s Discipleship – Cascade Fitness \n\n\n\nMen’s Discipleship provides a space for men to grow in faith\, accountability\, and brotherhood. Through Scripture\, conversation\, and shared commitment\, we challenge one another to live with integrity and purpose. This is a place to grow stronger spiritually alongside other men.
URL:https://getstrongoregon.com/event/mens-discipleship-9/2026-07-25/
LOCATION:Cascade Fitness\, 625 N Arrowleaf Trail #101\, Sisters\, Oregon\, 97759
CATEGORIES:Discipleship Groups
ATTACH;FMTTYPE=image/jpeg:https://getstrongoregon.com/wp-content/uploads/2026/01/IMG_0519.jpeg
END:VEVENT
BEGIN:VEVENT
DTSTART;TZID=America/Los_Angeles:20260801T070000
DTEND;TZID=America/Los_Angeles:20260801T090000
DTSTAMP:20260425T091805
CREATED:20260112T200354Z
LAST-MODIFIED:20260112T202400Z
UID:10007153-1785567600-1785574800@getstrongoregon.com
SUMMARY:Men’s Saturday Morning Discipleship
DESCRIPTION:7am Saturdays – Men’s Discipleship – Cascade Fitness \n\n\n\nMen’s Discipleship provides a space for men to grow in faith\, accountability\, and brotherhood. Through Scripture\, conversation\, and shared commitment\, we challenge one another to live with integrity and purpose. This is a place to grow stronger spiritually alongside other men.
URL:https://getstrongoregon.com/event/mens-discipleship-9/2026-08-01/
LOCATION:Cascade Fitness\, 625 N Arrowleaf Trail #101\, Sisters\, Oregon\, 97759
CATEGORIES:Discipleship Groups
ATTACH;FMTTYPE=image/jpeg:https://getstrongoregon.com/wp-content/uploads/2026/01/IMG_0519.jpeg
END:VEVENT
BEGIN:VEVENT
DTSTART;TZID=America/Los_Angeles:20260808T070000
DTEND;TZID=America/Los_Angeles:20260808T090000
DTSTAMP:20260425T091805
CREATED:20260112T200354Z
LAST-MODIFIED:20260112T202400Z
UID:10007154-1786172400-1786179600@getstrongoregon.com
SUMMARY:Men’s Saturday Morning Discipleship
DESCRIPTION:7am Saturdays – Men’s Discipleship – Cascade Fitness \n\n\n\nMen’s Discipleship provides a space for men to grow in faith\, accountability\, and brotherhood. Through Scripture\, conversation\, and shared commitment\, we challenge one another to live with integrity and purpose. This is a place to grow stronger spiritually alongside other men.
URL:https://getstrongoregon.com/event/mens-discipleship-9/2026-08-08/
LOCATION:Cascade Fitness\, 625 N Arrowleaf Trail #101\, Sisters\, Oregon\, 97759
CATEGORIES:Discipleship Groups
ATTACH;FMTTYPE=image/jpeg:https://getstrongoregon.com/wp-content/uploads/2026/01/IMG_0519.jpeg
END:VEVENT
BEGIN:VEVENT
DTSTART;TZID=America/Los_Angeles:20260815T070000
DTEND;TZID=America/Los_Angeles:20260815T090000
DTSTAMP:20260425T091805
CREATED:20260112T200354Z
LAST-MODIFIED:20260112T202400Z
UID:10007155-1786777200-1786784400@getstrongoregon.com
SUMMARY:Men’s Saturday Morning Discipleship
DESCRIPTION:7am Saturdays – Men’s Discipleship – Cascade Fitness \n\n\n\nMen’s Discipleship provides a space for men to grow in faith\, accountability\, and brotherhood. Through Scripture\, conversation\, and shared commitment\, we challenge one another to live with integrity and purpose. This is a place to grow stronger spiritually alongside other men.
URL:https://getstrongoregon.com/event/mens-discipleship-9/2026-08-15/
LOCATION:Cascade Fitness\, 625 N Arrowleaf Trail #101\, Sisters\, Oregon\, 97759
CATEGORIES:Discipleship Groups
ATTACH;FMTTYPE=image/jpeg:https://getstrongoregon.com/wp-content/uploads/2026/01/IMG_0519.jpeg
END:VEVENT
BEGIN:VEVENT
DTSTART;TZID=America/Los_Angeles:20260822T070000
DTEND;TZID=America/Los_Angeles:20260822T090000
DTSTAMP:20260425T091805
CREATED:20260112T200354Z
LAST-MODIFIED:20260112T202400Z
UID:10007156-1787382000-1787389200@getstrongoregon.com
SUMMARY:Men’s Saturday Morning Discipleship
DESCRIPTION:7am Saturdays – Men’s Discipleship – Cascade Fitness \n\n\n\nMen’s Discipleship provides a space for men to grow in faith\, accountability\, and brotherhood. Through Scripture\, conversation\, and shared commitment\, we challenge one another to live with integrity and purpose. This is a place to grow stronger spiritually alongside other men.
URL:https://getstrongoregon.com/event/mens-discipleship-9/2026-08-22/
LOCATION:Cascade Fitness\, 625 N Arrowleaf Trail #101\, Sisters\, Oregon\, 97759
CATEGORIES:Discipleship Groups
ATTACH;FMTTYPE=image/jpeg:https://getstrongoregon.com/wp-content/uploads/2026/01/IMG_0519.jpeg
END:VEVENT
BEGIN:VEVENT
DTSTART;TZID=America/Los_Angeles:20260829T070000
DTEND;TZID=America/Los_Angeles:20260829T090000
DTSTAMP:20260425T091805
CREATED:20260112T200354Z
LAST-MODIFIED:20260112T202400Z
UID:10007157-1787986800-1787994000@getstrongoregon.com
SUMMARY:Men’s Saturday Morning Discipleship
DESCRIPTION:7am Saturdays – Men’s Discipleship – Cascade Fitness \n\n\n\nMen’s Discipleship provides a space for men to grow in faith\, accountability\, and brotherhood. Through Scripture\, conversation\, and shared commitment\, we challenge one another to live with integrity and purpose. This is a place to grow stronger spiritually alongside other men.
URL:https://getstrongoregon.com/event/mens-discipleship-9/2026-08-29/
LOCATION:Cascade Fitness\, 625 N Arrowleaf Trail #101\, Sisters\, Oregon\, 97759
CATEGORIES:Discipleship Groups
ATTACH;FMTTYPE=image/jpeg:https://getstrongoregon.com/wp-content/uploads/2026/01/IMG_0519.jpeg
END:VEVENT
BEGIN:VEVENT
DTSTART;TZID=America/Los_Angeles:20260905T070000
DTEND;TZID=America/Los_Angeles:20260905T090000
DTSTAMP:20260425T091805
CREATED:20260112T200354Z
LAST-MODIFIED:20260112T202400Z
UID:10007158-1788591600-1788598800@getstrongoregon.com
SUMMARY:Men’s Saturday Morning Discipleship
DESCRIPTION:7am Saturdays – Men’s Discipleship – Cascade Fitness \n\n\n\nMen’s Discipleship provides a space for men to grow in faith\, accountability\, and brotherhood. Through Scripture\, conversation\, and shared commitment\, we challenge one another to live with integrity and purpose. This is a place to grow stronger spiritually alongside other men.
URL:https://getstrongoregon.com/event/mens-discipleship-9/2026-09-05/
LOCATION:Cascade Fitness\, 625 N Arrowleaf Trail #101\, Sisters\, Oregon\, 97759
CATEGORIES:Discipleship Groups
ATTACH;FMTTYPE=image/jpeg:https://getstrongoregon.com/wp-content/uploads/2026/01/IMG_0519.jpeg
END:VEVENT
BEGIN:VEVENT
DTSTART;TZID=America/Los_Angeles:20260912T070000
DTEND;TZID=America/Los_Angeles:20260912T090000
DTSTAMP:20260425T091805
CREATED:20260112T200354Z
LAST-MODIFIED:20260112T202400Z
UID:10007159-1789196400-1789203600@getstrongoregon.com
SUMMARY:Men’s Saturday Morning Discipleship
DESCRIPTION:7am Saturdays – Men’s Discipleship – Cascade Fitness \n\n\n\nMen’s Discipleship provides a space for men to grow in faith\, accountability\, and brotherhood. Through Scripture\, conversation\, and shared commitment\, we challenge one another to live with integrity and purpose. This is a place to grow stronger spiritually alongside other men.
URL:https://getstrongoregon.com/event/mens-discipleship-9/2026-09-12/
LOCATION:Cascade Fitness\, 625 N Arrowleaf Trail #101\, Sisters\, Oregon\, 97759
CATEGORIES:Discipleship Groups
ATTACH;FMTTYPE=image/jpeg:https://getstrongoregon.com/wp-content/uploads/2026/01/IMG_0519.jpeg
END:VEVENT
BEGIN:VEVENT
DTSTART;TZID=America/Los_Angeles:20260919T070000
DTEND;TZID=America/Los_Angeles:20260919T090000
DTSTAMP:20260425T091805
CREATED:20260112T200354Z
LAST-MODIFIED:20260112T202400Z
UID:10007160-1789801200-1789808400@getstrongoregon.com
SUMMARY:Men’s Saturday Morning Discipleship
DESCRIPTION:7am Saturdays – Men’s Discipleship – Cascade Fitness \n\n\n\nMen’s Discipleship provides a space for men to grow in faith\, accountability\, and brotherhood. Through Scripture\, conversation\, and shared commitment\, we challenge one another to live with integrity and purpose. This is a place to grow stronger spiritually alongside other men.
URL:https://getstrongoregon.com/event/mens-discipleship-9/2026-09-19/
LOCATION:Cascade Fitness\, 625 N Arrowleaf Trail #101\, Sisters\, Oregon\, 97759
CATEGORIES:Discipleship Groups
ATTACH;FMTTYPE=image/jpeg:https://getstrongoregon.com/wp-content/uploads/2026/01/IMG_0519.jpeg
END:VEVENT
BEGIN:VEVENT
DTSTART;TZID=America/Los_Angeles:20260926T070000
DTEND;TZID=America/Los_Angeles:20260926T090000
DTSTAMP:20260425T091805
CREATED:20260112T200354Z
LAST-MODIFIED:20260112T202400Z
UID:10007161-1790406000-1790413200@getstrongoregon.com
SUMMARY:Men’s Saturday Morning Discipleship
DESCRIPTION:7am Saturdays – Men’s Discipleship – Cascade Fitness \n\n\n\nMen’s Discipleship provides a space for men to grow in faith\, accountability\, and brotherhood. Through Scripture\, conversation\, and shared commitment\, we challenge one another to live with integrity and purpose. This is a place to grow stronger spiritually alongside other men.
URL:https://getstrongoregon.com/event/mens-discipleship-9/2026-09-26/
LOCATION:Cascade Fitness\, 625 N Arrowleaf Trail #101\, Sisters\, Oregon\, 97759
CATEGORIES:Discipleship Groups
ATTACH;FMTTYPE=image/jpeg:https://getstrongoregon.com/wp-content/uploads/2026/01/IMG_0519.jpeg
END:VEVENT
BEGIN:VEVENT
DTSTART;TZID=America/Los_Angeles:20261003T070000
DTEND;TZID=America/Los_Angeles:20261003T090000
DTSTAMP:20260425T091805
CREATED:20260112T200354Z
LAST-MODIFIED:20260112T202400Z
UID:10007162-1791010800-1791018000@getstrongoregon.com
SUMMARY:Men’s Saturday Morning Discipleship
DESCRIPTION:7am Saturdays – Men’s Discipleship – Cascade Fitness \n\n\n\nMen’s Discipleship provides a space for men to grow in faith\, accountability\, and brotherhood. Through Scripture\, conversation\, and shared commitment\, we challenge one another to live with integrity and purpose. This is a place to grow stronger spiritually alongside other men.
URL:https://getstrongoregon.com/event/mens-discipleship-9/2026-10-03/
LOCATION:Cascade Fitness\, 625 N Arrowleaf Trail #101\, Sisters\, Oregon\, 97759
CATEGORIES:Discipleship Groups
ATTACH;FMTTYPE=image/jpeg:https://getstrongoregon.com/wp-content/uploads/2026/01/IMG_0519.jpeg
END:VEVENT
BEGIN:VEVENT
DTSTART;TZID=America/Los_Angeles:20261010T070000
DTEND;TZID=America/Los_Angeles:20261010T090000
DTSTAMP:20260425T091805
CREATED:20260112T200354Z
LAST-MODIFIED:20260112T202400Z
UID:10007163-1791615600-1791622800@getstrongoregon.com
SUMMARY:Men’s Saturday Morning Discipleship
DESCRIPTION:7am Saturdays – Men’s Discipleship – Cascade Fitness \n\n\n\nMen’s Discipleship provides a space for men to grow in faith\, accountability\, and brotherhood. Through Scripture\, conversation\, and shared commitment\, we challenge one another to live with integrity and purpose. This is a place to grow stronger spiritually alongside other men.
URL:https://getstrongoregon.com/event/mens-discipleship-9/2026-10-10/
LOCATION:Cascade Fitness\, 625 N Arrowleaf Trail #101\, Sisters\, Oregon\, 97759
CATEGORIES:Discipleship Groups
ATTACH;FMTTYPE=image/jpeg:https://getstrongoregon.com/wp-content/uploads/2026/01/IMG_0519.jpeg
END:VEVENT
BEGIN:VEVENT
DTSTART;TZID=America/Los_Angeles:20261017T070000
DTEND;TZID=America/Los_Angeles:20261017T090000
DTSTAMP:20260425T091805
CREATED:20260112T200354Z
LAST-MODIFIED:20260112T202400Z
UID:10007164-1792220400-1792227600@getstrongoregon.com
SUMMARY:Men’s Saturday Morning Discipleship
DESCRIPTION:7am Saturdays – Men’s Discipleship – Cascade Fitness \n\n\n\nMen’s Discipleship provides a space for men to grow in faith\, accountability\, and brotherhood. Through Scripture\, conversation\, and shared commitment\, we challenge one another to live with integrity and purpose. This is a place to grow stronger spiritually alongside other men.
URL:https://getstrongoregon.com/event/mens-discipleship-9/2026-10-17/
LOCATION:Cascade Fitness\, 625 N Arrowleaf Trail #101\, Sisters\, Oregon\, 97759
CATEGORIES:Discipleship Groups
ATTACH;FMTTYPE=image/jpeg:https://getstrongoregon.com/wp-content/uploads/2026/01/IMG_0519.jpeg
END:VEVENT
BEGIN:VEVENT
DTSTART;TZID=America/Los_Angeles:20261024T070000
DTEND;TZID=America/Los_Angeles:20261024T090000
DTSTAMP:20260425T091805
CREATED:20260112T200354Z
LAST-MODIFIED:20260112T202400Z
UID:10007165-1792825200-1792832400@getstrongoregon.com
SUMMARY:Men’s Saturday Morning Discipleship
DESCRIPTION:7am Saturdays – Men’s Discipleship – Cascade Fitness \n\n\n\nMen’s Discipleship provides a space for men to grow in faith\, accountability\, and brotherhood. Through Scripture\, conversation\, and shared commitment\, we challenge one another to live with integrity and purpose. This is a place to grow stronger spiritually alongside other men.
URL:https://getstrongoregon.com/event/mens-discipleship-9/2026-10-24/
LOCATION:Cascade Fitness\, 625 N Arrowleaf Trail #101\, Sisters\, Oregon\, 97759
CATEGORIES:Discipleship Groups
ATTACH;FMTTYPE=image/jpeg:https://getstrongoregon.com/wp-content/uploads/2026/01/IMG_0519.jpeg
END:VEVENT
BEGIN:VEVENT
DTSTART;TZID=America/Los_Angeles:20261031T070000
DTEND;TZID=America/Los_Angeles:20261031T090000
DTSTAMP:20260425T091805
CREATED:20260112T200354Z
LAST-MODIFIED:20260112T202400Z
UID:10007166-1793430000-1793437200@getstrongoregon.com
SUMMARY:Men’s Saturday Morning Discipleship
DESCRIPTION:7am Saturdays – Men’s Discipleship – Cascade Fitness \n\n\n\nMen’s Discipleship provides a space for men to grow in faith\, accountability\, and brotherhood. Through Scripture\, conversation\, and shared commitment\, we challenge one another to live with integrity and purpose. This is a place to grow stronger spiritually alongside other men.
URL:https://getstrongoregon.com/event/mens-discipleship-9/2026-10-31/
LOCATION:Cascade Fitness\, 625 N Arrowleaf Trail #101\, Sisters\, Oregon\, 97759
CATEGORIES:Discipleship Groups
ATTACH;FMTTYPE=image/jpeg:https://getstrongoregon.com/wp-content/uploads/2026/01/IMG_0519.jpeg
END:VEVENT
BEGIN:VEVENT
DTSTART;TZID=America/Los_Angeles:20261107T070000
DTEND;TZID=America/Los_Angeles:20261107T090000
DTSTAMP:20260425T091805
CREATED:20260112T200354Z
LAST-MODIFIED:20260112T202400Z
UID:10007167-1794034800-1794042000@getstrongoregon.com
SUMMARY:Men’s Saturday Morning Discipleship
DESCRIPTION:7am Saturdays – Men’s Discipleship – Cascade Fitness \n\n\n\nMen’s Discipleship provides a space for men to grow in faith\, accountability\, and brotherhood. Through Scripture\, conversation\, and shared commitment\, we challenge one another to live with integrity and purpose. This is a place to grow stronger spiritually alongside other men.
URL:https://getstrongoregon.com/event/mens-discipleship-9/2026-11-07/
LOCATION:Cascade Fitness\, 625 N Arrowleaf Trail #101\, Sisters\, Oregon\, 97759
CATEGORIES:Discipleship Groups
ATTACH;FMTTYPE=image/jpeg:https://getstrongoregon.com/wp-content/uploads/2026/01/IMG_0519.jpeg
END:VEVENT
BEGIN:VEVENT
DTSTART;TZID=America/Los_Angeles:20261114T070000
DTEND;TZID=America/Los_Angeles:20261114T090000
DTSTAMP:20260425T091805
CREATED:20260112T200354Z
LAST-MODIFIED:20260112T202400Z
UID:10007168-1794639600-1794646800@getstrongoregon.com
SUMMARY:Men’s Saturday Morning Discipleship
DESCRIPTION:7am Saturdays – Men’s Discipleship – Cascade Fitness \n\n\n\nMen’s Discipleship provides a space for men to grow in faith\, accountability\, and brotherhood. Through Scripture\, conversation\, and shared commitment\, we challenge one another to live with integrity and purpose. This is a place to grow stronger spiritually alongside other men.
URL:https://getstrongoregon.com/event/mens-discipleship-9/2026-11-14/
LOCATION:Cascade Fitness\, 625 N Arrowleaf Trail #101\, Sisters\, Oregon\, 97759
CATEGORIES:Discipleship Groups
ATTACH;FMTTYPE=image/jpeg:https://getstrongoregon.com/wp-content/uploads/2026/01/IMG_0519.jpeg
END:VEVENT
BEGIN:VEVENT
DTSTART;TZID=America/Los_Angeles:20261121T070000
DTEND;TZID=America/Los_Angeles:20261121T090000
DTSTAMP:20260425T091805
CREATED:20260112T200354Z
LAST-MODIFIED:20260112T202400Z
UID:10007169-1795244400-1795251600@getstrongoregon.com
SUMMARY:Men’s Saturday Morning Discipleship
DESCRIPTION:7am Saturdays – Men’s Discipleship – Cascade Fitness \n\n\n\nMen’s Discipleship provides a space for men to grow in faith\, accountability\, and brotherhood. Through Scripture\, conversation\, and shared commitment\, we challenge one another to live with integrity and purpose. This is a place to grow stronger spiritually alongside other men.
URL:https://getstrongoregon.com/event/mens-discipleship-9/2026-11-21/
LOCATION:Cascade Fitness\, 625 N Arrowleaf Trail #101\, Sisters\, Oregon\, 97759
CATEGORIES:Discipleship Groups
ATTACH;FMTTYPE=image/jpeg:https://getstrongoregon.com/wp-content/uploads/2026/01/IMG_0519.jpeg
END:VEVENT
END:VCALENDAR